BEGIN:VCALENDAR
VERSION:2.0
PRODID:-//Beach Events Virginia Beach VA - ECPv6.13.2.1//NONSGML v1.0//EN
CALSCALE:GREGORIAN
METHOD:PUBLISH
X-ORIGINAL-URL:https://beacheventsvb.com
X-WR-CALDESC:Events for Beach Events Virginia Beach VA
REFRESH-INTERVAL;VALUE=DURATION:PT1H
X-Robots-Tag:noindex
X-PUBLISHED-TTL:PT1H
BEGIN:VTIMEZONE
TZID:America/New_York
BEGIN:DAYLIGHT
TZOFFSETFROM:-0500
TZOFFSETTO:-0400
TZNAME:EDT
DTSTART:20250309T070000
END:DAYLIGHT
BEGIN:STANDARD
TZOFFSETFROM:-0400
TZOFFSETTO:-0500
TZNAME:EST
DTSTART:20251102T060000
END:STANDARD
END:VTIMEZONE
BEGIN:VEVENT
DTSTART;TZID=America/New_York:20250710T203000
DTEND;TZID=America/New_York:20250710T223000
DTSTAMP:20260421T132817
CREATED:20240116T150046Z
LAST-MODIFIED:20250731T151544Z
UID:10002305-1752179400-1752186600@beacheventsvb.com
SUMMARY:Beach Blanket Cinema: Inside Out 2
DESCRIPTION:Inside Out 2PGThursday\, July 10 | 8:30pmOn the beach at 29th StreetFREE and open to the public \n\n\n\n“Inside Out 2” returns to the mind of newly minted teenager Riley just as headquarters is undergoing a sudden demolition to make room for something entirely unexpected: new Emotions! Joy\, Sadness\, Anger\, Fear and Disgust\, who’ve long been running a successful operation by all accounts\, aren’t sure how to feel when Anxiety shows up. And it looks like she’s not alone. \n\n\n\nBring your blanket or beach chair and spread out on the sand under the stars for a night of family movie magic! All movies are free and begin at 8:30pm on the beach at 29th Street.
URL:https://beacheventsvb.com/event/beach-blanket-cinema-inside-out-2-2025/
LOCATION:29th Street On the beach\, Virginia Beach\, VA\, 23451\, United States
CATEGORIES:All Events,Beach Blanket Cinema
ATTACH;FMTTYPE=image/png:https://beacheventsvb.com/wp-content/uploads/2025/05/HEADER-Beach-Blanket-Cinema-1.png
GEO:36.8643566;-75.9985693
END:VEVENT
BEGIN:VEVENT
DTSTART;TZID=America/New_York:20250724T203000
DTEND;TZID=America/New_York:20250724T223000
DTSTAMP:20260421T132817
CREATED:20240116T150004Z
LAST-MODIFIED:20250529T154526Z
UID:10002306-1753389000-1753396200@beacheventsvb.com
SUMMARY:Beach Blanket Cinema: Mufasa: The Lion King
DESCRIPTION:Mufasa: The Lion KingPGThursday\, July 24 | 8:30pmOn the beach at 29th StreetFREE and open to the public \n\n\n\n“Mufasa: The Lion King” enlists Rafiki to relay the legend of Mufasa to young lion cub Kiara\, daughter of Simba and Nala\, with Timon and Pumbaa lending their signature schtick. Told in flashbacks\, the story introduces Mufasa as an orphaned cub\, lost and alone until he meets a sympathetic lion named Taka—the heir to a royal bloodline. The chance meeting sets in motion an expansive journey of an extraordinary group of misfits searching for their destiny—their bonds will be tested as they work together to evade a threatening and deadly foe. \n\n\n\nBring your blanket or beach chair and spread out on the sand under the stars for a night of family movie magic! All movies are free and begin at 8:30pm on the beach at 29th Street.
URL:https://beacheventsvb.com/event/beach-blanket-cinema-mufasa-2025/
LOCATION:29th Street On the beach\, Virginia Beach\, VA\, 23451\, United States
CATEGORIES:All Events,Beach Blanket Cinema
ATTACH;FMTTYPE=image/png:https://beacheventsvb.com/wp-content/uploads/2025/05/HEADER-Beach-Blanket-Cinema-1.png
GEO:36.8643566;-75.9985693
END:VEVENT
BEGIN:VEVENT
DTSTART;TZID=America/New_York:20250731T203000
DTEND;TZID=America/New_York:20250731T223000
DTSTAMP:20260421T132817
CREATED:20240116T150017Z
LAST-MODIFIED:20250804T182802Z
UID:10002308-1753993800-1754001000@beacheventsvb.com
SUMMARY:Beach Blanket Cinema: Sonic the Hedgehog 3
DESCRIPTION:Sonic the Hedgehog 3PGThursday\, July 31 | 8:30pmOn the beach at 29th StreetFREE and open to the public \n\n\n\nSonic\, Knuckles\, and Tails reunite against a powerful new adversary\, Shadow\, a mysterious villain with powers unlike anything they have faced before. With their abilities outmatched in every way\, Team Sonic must seek out an unlikely alliance in hopes of stopping Shadow and protecting the planet. \n\n\n\nBring your blanket or beach chair and spread out on the sand under the stars for a night of family movie magic! All movies are free and begin at 8:30pm on the beach at 29th Street.
URL:https://beacheventsvb.com/event/beach-blanket-cinema-sonic-2025/
LOCATION:29th Street On the beach\, Virginia Beach\, VA\, 23451\, United States
CATEGORIES:All Events,Beach Blanket Cinema
ATTACH;FMTTYPE=image/png:https://beacheventsvb.com/wp-content/uploads/2025/05/HEADER-Beach-Blanket-Cinema-1.png
GEO:36.8643566;-75.9985693
END:VEVENT
END:VCALENDAR