BEGIN:VCALENDAR
VERSION:2.0
PRODID:-//Beach Events Virginia Beach VA - ECPv6.13.2.1//NONSGML v1.0//EN
CALSCALE:GREGORIAN
METHOD:PUBLISH
X-ORIGINAL-URL:https://beacheventsvb.com
X-WR-CALDESC:Events for Beach Events Virginia Beach VA
REFRESH-INTERVAL;VALUE=DURATION:PT1H
X-Robots-Tag:noindex
X-PUBLISHED-TTL:PT1H
BEGIN:VTIMEZONE
TZID:America/New_York
BEGIN:DAYLIGHT
TZOFFSETFROM:-0500
TZOFFSETTO:-0400
TZNAME:EDT
DTSTART:20250309T070000
END:DAYLIGHT
BEGIN:STANDARD
TZOFFSETFROM:-0400
TZOFFSETTO:-0500
TZNAME:EST
DTSTART:20251102T060000
END:STANDARD
END:VTIMEZONE
BEGIN:VEVENT
DTSTART;TZID=America/New_York:20250807T203000
DTEND;TZID=America/New_York:20250807T223000
DTSTAMP:20260420T165801
CREATED:20240116T150047Z
LAST-MODIFIED:20250811T214639Z
UID:10002307-1754598600-1754605800@beacheventsvb.com
SUMMARY:Beach Blanket Cinema: Elemental
DESCRIPTION:ElementalPGThursday\, August 7 | 8:30pmOn the beach at 29th StreetFREE and open to the public \n\n\n\n“Elemental” is set in Element City\, where fire-\, water-\, land- and air-residents live together. The story introduces Ember\, a tough\, quick-witted and fiery young woman\, whose friendship with a fun\, sappy\, go-with-the-flow guy named Wade challenges her beliefs about the world they live in. \n\n\n\nBring your blanket or beach chair and spread out on the sand under the stars for a night of family movie magic! All movies are free and begin at 8:30pm on the beach at 29th Street.
URL:https://beacheventsvb.com/event/beach-blanket-cinema-elemental-2025/
LOCATION:29th Street On the beach\, Virginia Beach\, VA\, 23451\, United States
CATEGORIES:All Events,Beach Blanket Cinema
ATTACH;FMTTYPE=image/png:https://beacheventsvb.com/wp-content/uploads/2025/05/HEADER-Beach-Blanket-Cinema-1.png
GEO:36.8643566;-75.9985693
END:VEVENT
BEGIN:VEVENT
DTSTART;TZID=America/New_York:20250814T203000
DTEND;TZID=America/New_York:20250814T223000
DTSTAMP:20260420T165801
CREATED:20250127T224751Z
LAST-MODIFIED:20250818T153106Z
UID:10002870-1755203400-1755210600@beacheventsvb.com
SUMMARY:Beach Blanket Cinema: Despicable Me 4
DESCRIPTION:Despicable Me 4PGThursday\, August 14 | 8:30pmOn the beach at 29th StreetFREE and open to the public \n\n\n\nGru faces a new nemesis in Maxime Le Mal and his femme fatale girlfriend Valentina\, and the family is forced to go on the run. \n\n\n\nBring your blanket or beach chair and spread out on the sand under the stars for a night of family movie magic! All movies are free and begin at 8:30pm on the beach at 29th Street.
URL:https://beacheventsvb.com/event/beach-blanket-cinema-despicable-me-4-2025/
LOCATION:29th Street On the beach\, Virginia Beach\, VA\, 23451\, United States
CATEGORIES:All Events,Beach Blanket Cinema
ATTACH;FMTTYPE=image/png:https://beacheventsvb.com/wp-content/uploads/2025/05/HEADER-Beach-Blanket-Cinema-1.png
GEO:36.8643566;-75.9985693
END:VEVENT
BEGIN:VEVENT
DTSTART;TZID=America/New_York:20250821T203000
DTEND;TZID=America/New_York:20250821T223000
DTSTAMP:20260420T165801
CREATED:20250127T224929Z
LAST-MODIFIED:20250819T205606Z
UID:10002871-1755808200-1755815400@beacheventsvb.com
SUMMARY:Beach Blanket Cinema: The Wild Robot
DESCRIPTION:The Wild RobotPGThursday\, August 21 | 8:30pmOn the beach at 29th Street \nWe regret to announce that this week’s Beach Blanket Cinema has been canceled due to impending weather conditions.  
URL:https://beacheventsvb.com/event/beach-blanket-cinema-the-wild-robot-2025/
LOCATION:29th Street On the beach\, Virginia Beach\, VA\, 23451\, United States
CATEGORIES:All Events,Beach Blanket Cinema
ATTACH;FMTTYPE=image/png:https://beacheventsvb.com/wp-content/uploads/2025/05/HEADER-Beach-Blanket-Cinema-1.png
GEO:36.8643566;-75.9985693
END:VEVENT
END:VCALENDAR