BEGIN:VCALENDAR
VERSION:2.0
PRODID:-//Beach Events Virginia Beach VA - ECPv6.13.2.1//NONSGML v1.0//EN
CALSCALE:GREGORIAN
METHOD:PUBLISH
X-WR-CALNAME:Beach Events Virginia Beach VA
X-ORIGINAL-URL:https://beacheventsvb.com
X-WR-CALDESC:Events for Beach Events Virginia Beach VA
REFRESH-INTERVAL;VALUE=DURATION:PT1H
X-Robots-Tag:noindex
X-PUBLISHED-TTL:PT1H
BEGIN:VTIMEZONE
TZID:America/New_York
BEGIN:DAYLIGHT
TZOFFSETFROM:-0500
TZOFFSETTO:-0400
TZNAME:EDT
DTSTART:20240310T070000
END:DAYLIGHT
BEGIN:STANDARD
TZOFFSETFROM:-0400
TZOFFSETTO:-0500
TZNAME:EST
DTSTART:20241103T060000
END:STANDARD
END:VTIMEZONE
BEGIN:VEVENT
DTSTART;VALUE=DATE:20241011
DTEND;VALUE=DATE:20241013
DTSTAMP:20260420T234559
CREATED:20241004T160500Z
LAST-MODIFIED:20241014T144330Z
UID:10002868-1728604800-1728777599@beacheventsvb.com
SUMMARY:Pulse
DESCRIPTION:Pulse is a community-driven celebration of the heartbeat and rhythm of diverse talent within the Hampton Roads arts community. From emerging artists striking their first chord to established names who have already defined the beat\, this event showcases the vibrant\, eclectic currents of musicians\, visual artists\, performers\, and creators who make our region thrive. \nCreative expression pulses through the ecosystem of our community\, connecting us all to local businesses\, creatives\, and audiences. Pulse is dedicated to amplifying these connections\, ensuring that Hampton Roads rides the rhythm together. In addition to the main stages\, Pulse will partner with local businesses to host satellite events\, creating an immersive experience that flows through the entire community. \nPulse is your opportunity to support the artists shaping the future of creative expression while engaging with the businesses that sustain the creative heartbeat of Hampton Roads. \nMore details about PULSE: www.pulsefestva.com \nPULSE SCHEDULE \nFriday\, Oct 11th: \n17th Park (6 PM – 10 PM) \nConcert and Artisan Market \nHost – Team Yellow \nLine-up: \nFuzz Band – Headliner \nTeezy So Dope \nRoberta Lea \nAviana \nEric Staab \nSoft Plan \nDuragDaf \n24th Street Park (7 PM – 10PM) \nRotimi – Headliner \nSober the DJ \nTina \nBig Ligiee \nIntalek \nLegin \nLB199X \nEras \nChaz French \n  \nBunker (8 PM – 12 AM) \nRVG The Kick Off \nArtist Showcase \nShann \nShaolin \nGee Litt \nCMRNPRKR \nZYAA \n  \nOceans 14 (10 PM – 2 AM) \nArtist Showcase \n  \nSeaSide Raw Bar (10 PM – 2 AM) \nEDM Dance Party \n  \nOceans Ole (10 PM – 2 AM) \nDJ Showcase \n  \nSaturday\, Oct 12th: \n17th Park (4 PM – 8 PM) \nHOST – Team Yellow \nDJ \nBJ Griffin – Headliner \nBennet Walker Wales \nAndre Love & TWP \nTha Fellaz \nLouissa \nMari Cornell \nVinny Del Sol \n24th Street Park (7 PM – 10PM) \nB.o.B. – Headliner \nRocky 7 \n  \nViBe Stage (9 AM – 12 PM) \nOld Beach Art and Eco Market \nNew Wave Emerging Artist Showcase \nMonarch \n  \nCoastal Edge (12 PM – 4 PM) \nBlock Party / Cookout \nFamily Activation \n  \n  \nLil Zaas (8 PM – 11 PM) \nArt Show \n  \nCoastal Mod (7 PM – 12 AM) \nZOO Art Show
URL:https://beacheventsvb.com/event/pulse/
LOCATION:17th and 24th Streets Parks\, Virginia Beach\, VA\, 23451\, United States
CATEGORIES:Festivals
ATTACH;FMTTYPE=image/jpeg:https://beacheventsvb.com/wp-content/uploads/2024/10/Pulse-web-header.jpg
GEO:36.8643566;-75.9985693
END:VEVENT
BEGIN:VEVENT
DTSTART;TZID=America/New_York:20241026T110000
DTEND;TZID=America/New_York:20241026T150000
DTSTAMP:20260420T234559
CREATED:20240116T150032Z
LAST-MODIFIED:20241028T155658Z
UID:10002295-1729940400-1729954800@beacheventsvb.com
SUMMARY:Pumpkins and Pirates Family Fest
DESCRIPTION:Saturday\, October 26 | 11 a.m. – 3 p.m.17th Street Park\, Virginia Beach OceanfrontFREE and open to the public \n\n\n\nEmbrace the festive spirit of fall at Pumpkins & Pirates\, a unique celebration that combines two beloved themes – pumpkins and pirates – for an unforgettable\, family-friendly experience. \nYoung scallywags are in for a treat with this creative blend\, featuring face painters\, carnival games\, stilt walkers\, family relay races\, roving jugglers\, bandana-making\, story-tellers\, and our very own pirate DJs! \nDon’t miss the chance to dress your family in pirate attire\, capture memorable photo ops\, and join in a spirited costume contest. \nThis spooktacular event is part of the “Wicked Weekend” at the Virginia Beach Oceanfront\, coinciding with the popular Old Point National Bank Wicked 10K race and various other hauntingly fun activities on October 25-26! \n\n\nTHANKS TO OUR SPONSORS
URL:https://beacheventsvb.com/event/virginia-beach-pumpkins-pirates-family-fest-2024/
LOCATION:17th Street Park\, Virginia Beach\, VA\, 23451\, United States
CATEGORIES:All Events,Festivals
ATTACH;FMTTYPE=image/jpeg:https://beacheventsvb.com/wp-content/uploads/2024/01/1920x1080_pumpkins-and-pirates-copy.jpg
GEO:36.8643566;-75.9985693
END:VEVENT
END:VCALENDAR