BEGIN:VCALENDAR
VERSION:2.0
PRODID:-//Beach Events Virginia Beach VA - ECPv6.13.2.1//NONSGML v1.0//EN
CALSCALE:GREGORIAN
METHOD:PUBLISH
X-WR-CALNAME:Beach Events Virginia Beach VA
X-ORIGINAL-URL:https://beacheventsvb.com
X-WR-CALDESC:Events for Beach Events Virginia Beach VA
REFRESH-INTERVAL;VALUE=DURATION:PT1H
X-Robots-Tag:noindex
X-PUBLISHED-TTL:PT1H
BEGIN:VTIMEZONE
TZID:America/New_York
BEGIN:DAYLIGHT
TZOFFSETFROM:-0500
TZOFFSETTO:-0400
TZNAME:EDT
DTSTART:20250309T070000
END:DAYLIGHT
BEGIN:STANDARD
TZOFFSETFROM:-0400
TZOFFSETTO:-0500
TZNAME:EST
DTSTART:20251102T060000
END:STANDARD
END:VTIMEZONE
BEGIN:VEVENT
DTSTART;TZID=America/New_York:20250611T190000
DTEND;TZID=America/New_York:20250611T220000
DTSTAMP:20260419T124818
CREATED:20250429T213401Z
LAST-MODIFIED:20250624T193427Z
UID:10002893-1749668400-1749679200@beacheventsvb.com
SUMMARY:Oceanfront Concert Series: The Wonder Years
DESCRIPTION:Wednesday\, June 11 | 7 p.m. \n17th Street Park \nThe Wonder Years\nwith GlomFREE and open to the public\nGet ready for hot summer nights with the Oceanfront Concert Series at Virginia Beach\, a free music extravaganza taking place in the parks along the iconic Virginia Beach Boardwalk. This series brings fans together to revel in the magic of live music against the backdrop of the Atlantic oceanfront. \nSpanning a diverse range of musical genres\, the Oceanfront Concert Series caters to various tastes\, offering an eclectic lineup that resonates with music enthusiasts of all ages.  \n\nKNOW BEFORE YOU GOAllowed:• Beach blanket\, towel\, or beach chair (without a foot-rest or canopy)• Small cooler• Outside food and drink (no alcohol)• Re-entry with hand stamp• Strollers \n\n\n\n\n\n\n\n\n \nProhibited:• Alcohol• Open containers of any kind• Glass containers• Bicycles• Pets (except certified service animals)• Professional Camera/Video Equipment• Umbrellas
URL:https://beacheventsvb.com/event/oceanfront-concert-series-the-wonder-years/
LOCATION:17th Street Park\, Virginia Beach\, VA\, 23451\, United States
CATEGORIES:All Events,Festivals,Oceanfront Concert Series
ATTACH;FMTTYPE=image/jpeg:https://beacheventsvb.com/wp-content/uploads/2024/01/1920x1080_ocs-copy.jpg
GEO:36.8643566;-75.9985693
END:VEVENT
END:VCALENDAR