BEGIN:VCALENDAR
VERSION:2.0
PRODID:-//Beach Events Virginia Beach VA - ECPv6.13.2.1//NONSGML v1.0//EN
CALSCALE:GREGORIAN
METHOD:PUBLISH
X-ORIGINAL-URL:https://beacheventsvb.com
X-WR-CALDESC:Events for Beach Events Virginia Beach VA
REFRESH-INTERVAL;VALUE=DURATION:PT1H
X-Robots-Tag:noindex
X-PUBLISHED-TTL:PT1H
BEGIN:VTIMEZONE
TZID:America/New_York
BEGIN:DAYLIGHT
TZOFFSETFROM:-0500
TZOFFSETTO:-0400
TZNAME:EDT
DTSTART:20260308T070000
END:DAYLIGHT
BEGIN:STANDARD
TZOFFSETFROM:-0400
TZOFFSETTO:-0500
TZNAME:EST
DTSTART:20261101T060000
END:STANDARD
END:VTIMEZONE
BEGIN:VEVENT
DTSTART;TZID=America/New_York:20260701T190000
DTEND;TZID=America/New_York:20260701T220000
DTSTAMP:20260421T221331
CREATED:20260421T164541Z
LAST-MODIFIED:20260421T164541Z
UID:10003442-1782932400-1782943200@beacheventsvb.com
SUMMARY:Oceanfront Concert Series: MC Lyte
DESCRIPTION:Wednesday\, July 1st | 7 p.m. \n17th Street Park \nMC Lyte FREE and open to the public\nGet ready for hot summer nights with the Oceanfront Concert Series at Virginia Beach\, a free music extravaganza taking place in the parks along the iconic Virginia Beach Boardwalk. This series brings fans together to revel in the magic of live music against the backdrop of the Atlantic oceanfront. \n\nKNOW BEFORE YOU GOAllowed:• Beach blanket\, towel\, or beach chair (without a foot-rest or canopy)• Small cooler• Outside food and drink (no alcohol)• Re-entry with hand stamp• Strollers \n\n\n\n\n\n\n\n\n \nProhibited:• Alcohol• Open containers of any kind• Glass containers• Bicycles\, scooters\, skateboards\, or other vehicles• Pets (except certified service animals)• Professional Camera/Video Equipment• Umbrellas \n\nTHANK YOU TO OUR SPONSORS: \n                   \n     \n \n  \n     \n                  
URL:https://beacheventsvb.com/event/oceanfront-concert-series-mc-lyte/
LOCATION:17th Street Park\, Virginia Beach\, VA\, 23451\, United States
CATEGORIES:All Events,Oceanfront Concert Series
ATTACH;FMTTYPE=image/jpeg:https://beacheventsvb.com/wp-content/uploads/2026/04/MC-Lyte.jpg
GEO:36.8643566;-75.9985693
END:VEVENT
BEGIN:VEVENT
DTSTART;TZID=America/New_York:20260708T190000
DTEND;TZID=America/New_York:20260708T220000
DTSTAMP:20260421T221331
CREATED:20260421T164905Z
LAST-MODIFIED:20260421T165012Z
UID:10003443-1783537200-1783548000@beacheventsvb.com
SUMMARY:Oceanfront Concert Series: Umphrey's McGee
DESCRIPTION:Wednesday\, July 8th | 7 p.m. \n31st Street Park \nUmphrey’s McGeeFREE and open to the public\nGet ready for hot summer nights with the Oceanfront Concert Series at Virginia Beach\, a free music extravaganza taking place in the parks along the iconic Virginia Beach Boardwalk. This series brings fans together to revel in the magic of live music against the backdrop of the Atlantic oceanfront. \n\nKNOW BEFORE YOU GOAllowed:• Beach blanket\, towel\, or beach chair (without a foot-rest or canopy)• Small cooler• Outside food and drink (no alcohol)• Re-entry with hand stamp• Strollers \n\n\n\n\n\n\n\n\n \nProhibited:• Alcohol• Open containers of any kind• Glass containers• Bicycles\, scooters\, skateboards\, or other vehicles• Pets (except certified service animals)• Professional Camera/Video Equipment• Umbrellas \n\nTHANK YOU TO OUR SPONSORS: \n                   \n     \n \n  \n     \n                  
URL:https://beacheventsvb.com/event/oceanfront-concert-series-umphreys-mcgee/
LOCATION:31st Street Park Oceanfront\, Virginia Beach\, VA\, 23451\, United States
CATEGORIES:All Events,Oceanfront Concert Series
ATTACH;FMTTYPE=image/jpeg:https://beacheventsvb.com/wp-content/uploads/2026/04/Umphreys-McGee.jpg
GEO:36.8643566;-75.9985693
END:VEVENT
BEGIN:VEVENT
DTSTART;TZID=America/New_York:20260715T190000
DTEND;TZID=America/New_York:20260715T220000
DTSTAMP:20260421T221331
CREATED:20260217T164844Z
LAST-MODIFIED:20260421T165203Z
UID:10003436-1784142000-1784152800@beacheventsvb.com
SUMMARY:Oceanfront Concert Series: Eggy & Dogs In a Pile
DESCRIPTION:Wednesday\, July 15 | 7 p.m. \n24th Street Park \nEggy & Dogs In a PileFREE and open to the public\nGet ready for hot summer nights with the Oceanfront Concert Series at Virginia Beach\, a free music extravaganza taking place in the parks along the iconic Virginia Beach Boardwalk. This series brings fans together to revel in the magic of live music against the backdrop of the Atlantic oceanfront.  \n\nKNOW BEFORE YOU GOAllowed:• Beach blanket\, towel\, or beach chair (without a foot-rest or canopy)• Small cooler• Outside food and drink (no alcohol)• Re-entry with hand stamp• Strollers \n\n\n\n\n\n\n\n\n \nProhibited:• Alcohol• Open containers of any kind• Glass containers• Bicycles\, scooters\, skateboards\, or other vehicles• Pets (except certified service animals)• Professional Camera/Video Equipment• Umbrellas \n\nTHANK YOU TO OUR SPONSORS: \n                   \n     \n \n  \n     \n                  
URL:https://beacheventsvb.com/event/oceanfront-concert-eggy-dogs-in-a-pile/
LOCATION:24th Street Park\, 2405 Atlantic Ave\, Virginia Beach\, VA\, 23451\, United States
CATEGORIES:All Events,Oceanfront Concert Series
ATTACH;FMTTYPE=image/jpeg:https://beacheventsvb.com/wp-content/uploads/2026/02/Eggy.jpg
GEO:36.852960626831;-75.975834805086
X-APPLE-STRUCTURED-LOCATION;VALUE=URI;X-ADDRESS=24th Street Park 2405 Atlantic Ave Virginia Beach VA 23451 United States;X-APPLE-RADIUS=500;X-TITLE=2405 Atlantic Ave:geo:-75.975834805086,36.852960626831
END:VEVENT
BEGIN:VEVENT
DTSTART;TZID=America/New_York:20260722T190000
DTEND;TZID=America/New_York:20260722T220000
DTSTAMP:20260421T221331
CREATED:20260421T165433Z
LAST-MODIFIED:20260421T165433Z
UID:10003444-1784746800-1784757600@beacheventsvb.com
SUMMARY:Oceanfront Concert Series: Josh Ross
DESCRIPTION:Wednesday\, July 22 | 7 p.m. \n17th Street Park \nJosh RossFREE and open to the public\nGet ready for hot summer nights with the Oceanfront Concert Series at Virginia Beach\, a free music extravaganza taking place in the parks along the iconic Virginia Beach Boardwalk. This series brings fans together to revel in the magic of live music against the backdrop of the Atlantic oceanfront.  \n\nKNOW BEFORE YOU GOAllowed:• Beach blanket\, towel\, or beach chair (without a foot-rest or canopy)• Small cooler• Outside food and drink (no alcohol)• Re-entry with hand stamp• Strollers \n\n\n\n\n\n\n\n\n \nProhibited:• Alcohol• Open containers of any kind• Glass containers• Bicycles\, scooters\, skateboards\, or other vehicles• Pets (except certified service animals)• Professional Camera/Video Equipment• Umbrellas \n\nTHANK YOU TO OUR SPONSORS: \n                   \n     \n \n  \n     \n                  
URL:https://beacheventsvb.com/event/oceanfront-concert-series-josh-ross/
LOCATION:17th Street Park\, Virginia Beach\, VA\, 23451\, United States
CATEGORIES:All Events,Oceanfront Concert Series
ATTACH;FMTTYPE=image/jpeg:https://beacheventsvb.com/wp-content/uploads/2026/04/Josh-Ross.jpg
GEO:36.8643566;-75.9985693
END:VEVENT
BEGIN:VEVENT
DTSTART;TZID=America/New_York:20260729T190000
DTEND;TZID=America/New_York:20260729T220000
DTSTAMP:20260421T221331
CREATED:20260421T165608Z
LAST-MODIFIED:20260421T165608Z
UID:10003445-1785351600-1785362400@beacheventsvb.com
SUMMARY:Oceanfront Concert Series: All-4-One
DESCRIPTION:Wednesday\, July 29 | 7 p.m. \n24th Street Park \nAll-4-OneFREE and open to the public\nGet ready for hot summer nights with the Oceanfront Concert Series at Virginia Beach\, a free music extravaganza taking place in the parks along the iconic Virginia Beach Boardwalk. This series brings fans together to revel in the magic of live music against the backdrop of the Atlantic oceanfront.  \n\nKNOW BEFORE YOU GOAllowed:• Beach blanket\, towel\, or beach chair (without a foot-rest or canopy)• Small cooler• Outside food and drink (no alcohol)• Re-entry with hand stamp• Strollers \n\n\n\n\n\n\n\n\n \nProhibited:• Alcohol• Open containers of any kind• Glass containers• Bicycles\, scooters\, skateboards\, or other vehicles• Pets (except certified service animals)• Professional Camera/Video Equipment• Umbrellas \n\nTHANK YOU TO OUR SPONSORS: \n                   \n     \n \n  \n     \n                  
URL:https://beacheventsvb.com/event/oceanfront-concert-series-all-4-one/
LOCATION:24th Street Park\, 2405 Atlantic Ave\, Virginia Beach\, VA\, 23451\, United States
CATEGORIES:All Events,Oceanfront Concert Series
ATTACH;FMTTYPE=image/jpeg:https://beacheventsvb.com/wp-content/uploads/2026/04/All-4-One.jpg
GEO:36.852960626831;-75.975834805086
X-APPLE-STRUCTURED-LOCATION;VALUE=URI;X-ADDRESS=24th Street Park 2405 Atlantic Ave Virginia Beach VA 23451 United States;X-APPLE-RADIUS=500;X-TITLE=2405 Atlantic Ave:geo:-75.975834805086,36.852960626831
END:VEVENT
END:VCALENDAR