BEGIN:VCALENDAR
VERSION:2.0
PRODID:-//Beach Events Virginia Beach VA - ECPv6.13.2.1//NONSGML v1.0//EN
CALSCALE:GREGORIAN
METHOD:PUBLISH
X-ORIGINAL-URL:https://beacheventsvb.com
X-WR-CALDESC:Events for Beach Events Virginia Beach VA
REFRESH-INTERVAL;VALUE=DURATION:PT1H
X-Robots-Tag:noindex
X-PUBLISHED-TTL:PT1H
BEGIN:VTIMEZONE
TZID:America/New_York
BEGIN:DAYLIGHT
TZOFFSETFROM:-0500
TZOFFSETTO:-0400
TZNAME:EDT
DTSTART:20230312T070000
END:DAYLIGHT
BEGIN:STANDARD
TZOFFSETFROM:-0400
TZOFFSETTO:-0500
TZNAME:EST
DTSTART:20231105T060000
END:STANDARD
END:VTIMEZONE
BEGIN:VEVENT
DTSTART;TZID=America/New_York:20230726T190000
DTEND;TZID=America/New_York:20230726T220000
DTSTAMP:20260420T235259
CREATED:20230418T120001Z
LAST-MODIFIED:20230727T180524Z
UID:10001153-1690398000-1690408800@beacheventsvb.com
SUMMARY:Oceanfront Concert Series: SOCCER MOMMY
DESCRIPTION:SOCCER MOMMYwith special guest Angelica GarciaWednesday\, July 26 | 7 pm17th Street ParkFREE and open to the public \n\n\n\nSometimes\, Forever\, the immersive and compulsively replayable new Soccer Mommy full-length\, cements Sophie Allison’s status as one of the most gifted songwriters making rock music right now. Packed with clever nods to synth-filled subgenres like new wave and goth\, the album finds Sophie broadening the borders of her aesthetic without abandoning the unsparing lyricism and addictive melodies that make Soccer Mommy songs so easy to obsess over. Sometimes\, Forever is the 24-year-old’s boldest and most aesthetically adventurous work\, a mesmerizing collection that feels both informed by the past and explicitly of the moment. It’s a fresh peek into the mind of an artist who synthesizes everything — retro sounds\, personal tumult\, the relatable disorder of modern life — into original music that feels built to last a long time. Maybe even forever. \n\n\n\nKNOW BEFORE YOU GO!:Allowed:• Beach Blanket\, towel\, or beach chair (without a foot rest or canopy)• Small Cooler• Outside Food and Drink (no alcohol)• Re-entry with Hand Stamp• Strollers \n\n\n\n\n\n\n\n\n \nProhibited:• Alcohol• Open containers of any kind• Glass containers• Bicycles• Pets (except certified service animals)• Professional Camera/Video Equipment• Umbrellas \n\n\n\nThank you to our Sponsors!
URL:https://beacheventsvb.com/event/oceanfront-concert-series-soccer-mommy/
LOCATION:17th Street Park\, Virginia Beach\, VA\, 23451\, United States
CATEGORIES:All Events,Festivals,Oceanfront Concert Series
ATTACH;FMTTYPE=image/jpeg:https://beacheventsvb.com/wp-content/uploads/2023/04/web_header_soccer_mommy-copy.jpg
GEO:36.8643566;-75.9985693
END:VEVENT
BEGIN:VEVENT
DTSTART;TZID=America/New_York:20230719T190000
DTEND;TZID=America/New_York:20230719T220000
DTSTAMP:20260420T235259
CREATED:20230321T120011Z
LAST-MODIFIED:20230720T160706Z
UID:10001150-1689793200-1689804000@beacheventsvb.com
SUMMARY:Oceanfront Concert Series: ANDY GRAMMER
DESCRIPTION:ANDY GRAMMERwith special guest Rett Madison \nWednesday\, July 19 | 7pm24th Street ParkFREE and open to the public \n\n\n\nMultiplatinum troubadour Andy Grammer continues to engage\, energize\, and empower audiences with stomping stadium-size pop anthems meant to be shared at full volume. His observations and affirmations pick you back up when you need it\, affirm your potential\, and encourage you to keep going.His catalog consists of numerous bona fide hits\, including the quadruple-platinum “Honey\, I’m Good\,” platinum singles “Keep Your Head Up\,” “Fine By Me\,” “Don’t Give Up On Me\,” “Fresh Eyes\,”“Good To Be Alive(Hallelujah)\,”gold single “I Found You\,” and the gold albums Andy GrammerandMagazines Or Novels. He has quietly generated billions of streams and lent his music to films such as Five Feet Apart. When “Don’t Give Up On Me” soundtracked ESPN’s 13thAnnual V Week for Cancer Reach\, he garnered a Sports Emmy for Outstanding Music Direction and a Clio Award. \n\n\n\nKNOW BEFORE YOU GO!:Allowed:• Beach Blanket\, towel\, or beach chair (without a foot rest or canopy)• Small Cooler• Outside Food and Drink (no alcohol)• Re-entry with Hand Stamp• Strollers \n\n\n\n\n\n\n\n\n \nProhibited:• Alcohol• Open containers of any kind• Glass containers• Bicycles• Pets (except certified service animals)• Professional Camera/Video Equipment• Umbrellas \n\n\n\nThank you to our Sponsors!
URL:https://beacheventsvb.com/event/oceanfront-concert-series-andy-grammer/
LOCATION:24th Street Park\, 2405 Atlantic Ave\, Virginia Beach\, VA\, 23451\, United States
CATEGORIES:All Events,Festivals,Oceanfront Concert Series
ATTACH;FMTTYPE=image/png:https://beacheventsvb.com/wp-content/uploads/2023/03/web_header_andy_grammer.png
GEO:36.852960626831;-75.975834805086
X-APPLE-STRUCTURED-LOCATION;VALUE=URI;X-ADDRESS=24th Street Park 2405 Atlantic Ave Virginia Beach VA 23451 United States;X-APPLE-RADIUS=500;X-TITLE=2405 Atlantic Ave:geo:-75.975834805086,36.852960626831
END:VEVENT
BEGIN:VEVENT
DTSTART;TZID=America/New_York:20230712T190000
DTEND;TZID=America/New_York:20230712T220000
DTSTAMP:20260420T235259
CREATED:20230321T120029Z
LAST-MODIFIED:20230714T194126Z
UID:10001149-1689188400-1689199200@beacheventsvb.com
SUMMARY:Oceanfront Concert Series: MOE.
DESCRIPTION:MOE. \nWednesday\, July 12 | 7pm24th Street ParkFREE and open to the public \n\n\n\nAl Schnier (guitars\, vocals) * Chuck Garvey (guitars\, vocals) * Rob Derhak (bass\, vocals) * Jim Loughlin (percussion\, vibes) * Vinnie Amico (drums)Hailed by American Songwriter for their “mind-bending musicality\,” moe. is treasured for their mesmerizing musical synergy\, unfettered showmanship\, and smart\, resonant songcraft. For three decades\, the band has corralled myriad musical forms on a truly original journey rich with crafty\, clever songwriting and astonishing resourcefulness. Fueled by an impassioned fan base\, moe. has spent much of those thirty years on the road\, encompassing countless live performances marked by eclectic wit\, deep friendship\, and exploratory invention. Having built an enduring legacy with hard work and a confirmed commitment to creativity and community\, moe. seem as surprised as anyone to find themselves at such a significant landmark. \nKNOW BEFORE YOU GO!:Allowed:• Beach Blanket\, towel\, or beach chair (without a foot rest or canopy)• Small Cooler• Outside Food and Drink (no alcohol)• Re-entry with Hand Stamp• Strollers \n\n\n\n\n\n\n\n\n \nProhibited:• Alcohol• Open containers of any kind• Glass containers• Bicycles• Pets (except certified service animals)• Professional Camera/Video Equipment• Umbrellas \n\n\n\n\n\nThank you to our Sponsors!
URL:https://beacheventsvb.com/event/oceanfront-concert-series-moe/
LOCATION:24th Street Park\, 2405 Atlantic Ave\, Virginia Beach\, VA\, 23451\, United States
CATEGORIES:All Events,Festivals,Oceanfront Concert Series
ATTACH;FMTTYPE=image/png:https://beacheventsvb.com/wp-content/uploads/2023/03/web_header_moe-1.png
GEO:36.852960626831;-75.975834805086
X-APPLE-STRUCTURED-LOCATION;VALUE=URI;X-ADDRESS=24th Street Park 2405 Atlantic Ave Virginia Beach VA 23451 United States;X-APPLE-RADIUS=500;X-TITLE=2405 Atlantic Ave:geo:-75.975834805086,36.852960626831
END:VEVENT
BEGIN:VEVENT
DTSTART;TZID=America/New_York:20230628T190000
DTEND;TZID=America/New_York:20230628T235000
DTSTAMP:20260420T235259
CREATED:20230321T120004Z
LAST-MODIFIED:20230629T221429Z
UID:10001148-1687978800-1687996200@beacheventsvb.com
SUMMARY:Oceanfront Concert Series: STRAIGHT NO CHASER
DESCRIPTION:STRAIGHT NO CHASERwith special guest The Trills \nWednesday\, June 28 | 7pm24th Street ParkFREE and open to the public \n\n\n\nAnywhere in the world\, nine dapper vocalists walk across the stage and immediately bring audiences to their feet. \nThey do so with nothing more than microphones in hand\, grins ear-to-ear\, witty banter on point\, and an uncanny ability to belt out holiday staples\, R&B smooth jams\, and stadium anthems carried by style\, swagger\, and spirit. For as much as the story of Straight No Chaser belongs to the nine guys on stage\, it also belongs to a devoted community of millions worldwide affectionately dubbed\, “Chasers\,” who cemented the a cappella collective’s status as an international phenomenon. \n\n\n\nKNOW BEFORE YOU GO!:Allowed:• Beach Blanket\, towel\, or beach chair (without a foot rest or canopy)• Small Cooler• Outside Food and Drink (no alcohol)• Re-entry with Hand Stamp• Strollers \n\n\n\n\n\n\n\n\n \nProhibited:• Alcohol• Open containers of any kind• Glass containers• Bicycles• Pets (except certified service animals)• Professional Camera/Video Equipment• Umbrellas \n\n\n\nThank you to our Sponsors!
URL:https://beacheventsvb.com/event/oceanfront-concert-series-straight-no-chaser/
LOCATION:24th Street Park\, 2405 Atlantic Ave\, Virginia Beach\, VA\, 23451\, United States
CATEGORIES:All Events,Festivals,Oceanfront Concert Series
ATTACH;FMTTYPE=image/png:https://beacheventsvb.com/wp-content/uploads/2023/03/web_header_snc.png
GEO:36.852960626831;-75.975834805086
X-APPLE-STRUCTURED-LOCATION;VALUE=URI;X-ADDRESS=24th Street Park 2405 Atlantic Ave Virginia Beach VA 23451 United States;X-APPLE-RADIUS=500;X-TITLE=2405 Atlantic Ave:geo:-75.975834805086,36.852960626831
END:VEVENT
BEGIN:VEVENT
DTSTART;TZID=America/New_York:20230621T190000
DTEND;TZID=America/New_York:20230621T235000
DTSTAMP:20260420T235259
CREATED:20230523T120011Z
LAST-MODIFIED:20230624T122513Z
UID:10001168-1687374000-1687391400@beacheventsvb.com
SUMMARY:Oceanfront Concert Series: FOGHAT
DESCRIPTION:LOCATION UPDATE: Due to weather conditions\, Foghat with special guest Jason Cale Music has been moved to 24th Street Park. \n FOGHATwith special guest Jason Cale BandWednesday\, June 21 | 7pm24th Street ParkFREE and open to the public \n\n\n\nFoghat celebrated their 50th anniversary in 2021\, and their live performances show why the band is still around and why they will be able to keep on rockin’ as long as they want to play! Their music is timeless\, and touring is part of their DNA. Foghat’s live show is as intense as ever with the incredible energy and musicianship that one would expect and hope for from a seasoned band with such a long musical history and they are bringing their fans along for the ride. These guys just love to play! \n\n\n\nKNOW BEFORE YOU GO!:Allowed:• Beach Blanket\, towel\, or beach chair (without a foot rest or canopy)• Small Cooler• Outside Food and Drink (no alcohol)• Re-entry with Hand Stamp• Strollers \n\n\n\n\n\n\n\n\n \nProhibited:• Alcohol• Open containers of any kind• Glass containers• Bicycles• Pets (except certified service animals)• Professional Camera/Video Equipment• Umbrellas \n\n\n\nThank you to our Sponsors!
URL:https://beacheventsvb.com/event/oceanfront-concert-series-foghat/
LOCATION:24th Street On beach\, Virginia Beach\, VA\, 23451\, United States
CATEGORIES:All Events,Festivals,Oceanfront Concert Series
ATTACH;FMTTYPE=image/jpeg:https://beacheventsvb.com/wp-content/uploads/2023/05/web_header_oghat-copy.jpg
GEO:36.8643566;-75.9985693
END:VEVENT
BEGIN:VEVENT
DTSTART;TZID=America/New_York:20230615T190000
DTEND;TZID=America/New_York:20230615T235000
DTSTAMP:20260420T235259
CREATED:20230321T120045Z
LAST-MODIFIED:20230616T155019Z
UID:10001146-1686855600-1686873000@beacheventsvb.com
SUMMARY:Oceanfront Concert Series: PROYECTO UNO
DESCRIPTION:La Fiesta Pre-PartyPROYECTO UNOwith special guest ¡Tumbao!Thursday\, June 15 | 7pm24th Street ParkFREE and open to the public \n\n\n\nLlegando a La Fiesta! ¿Playa Virginia? Ven temprano para un concierto especial de la serie de conciertos frente al mar con Proyecto Uno! \nPROYECTO UNO nace en New York cuando Nelson Zapata\, su fundador\, decide romper patrones musicales abarrotando de sabor las calles neoyorquinas. \n1989 marca el inicio de una nueva etapa en el ámbito musical con PROYECTO UNO. La agrupación hace historia presentando por primera vez su propuesta musical con atrevidas fusiones de ritmos calientes como el Merengue con géneros Dance\, House\, Hip-Hop\, R&B Soul\, y naturalmente\, tropical. La innovadora fórmula da inicio al estilo que ellos mismos definen como “una nueva tendencia de la cultura para celebrar nuestras herencias nativas”. \nComing to La Fiesta! Virginia Beach? Come early for a special Oceanfront Concert Series concert with Proyecto Uno!Proyecto Uno was born in New York when founder Nelson Zapata decided to break the musical mold by filling the New York streets with flavor.  \n1989 marked the beginning of a new stage in the musical field with PROYECTO UNO. The group made history by presenting its musical ideas for the first time with daring fusions of hot rhythms like Merengue with genres of Dance\, House\, Hip-Hop\, R&B Soul\, and tropical. The innovative formula begins the style that they themselves define as “a new trend in the culture to celebrate our native heritages.” \n\n\n\nKNOW BEFORE YOU GO!:Allowed:• Beach Blanket\, towel\, or beach chair (without a foot rest or canopy)• Small Cooler• Outside Food and Drink (no alcohol)• Re-entry with Hand Stamp• Strollers \n\n\n\n\n\n\n\n\n \nProhibited:• Alcohol• Open containers of any kind• Glass containers• Bicycles• Pets (except certified service animals)• Professional Camera/Video Equipment• Umbrellas \n\n\n\nThank you to our Sponsors!
URL:https://beacheventsvb.com/event/oceanfront-concert-series-proyecto-uno/
LOCATION:24th Street Park\, 2405 Atlantic Ave\, Virginia Beach\, VA\, 23451\, United States
CATEGORIES:All Events,Festivals,Oceanfront Concert Series
ATTACH;FMTTYPE=image/png:https://beacheventsvb.com/wp-content/uploads/2023/03/web_header_proyecto_uno.png
GEO:36.852960626831;-75.975834805086
X-APPLE-STRUCTURED-LOCATION;VALUE=URI;X-ADDRESS=24th Street Park 2405 Atlantic Ave Virginia Beach VA 23451 United States;X-APPLE-RADIUS=500;X-TITLE=2405 Atlantic Ave:geo:-75.975834805086,36.852960626831
END:VEVENT
BEGIN:VEVENT
DTSTART;TZID=America/New_York:20230607T190000
DTEND;TZID=America/New_York:20230607T235000
DTSTAMP:20260420T235259
CREATED:20230321T120007Z
LAST-MODIFIED:20230608T140241Z
UID:10001145-1686164400-1686181800@beacheventsvb.com
SUMMARY:Oceanfront Concert Series: THE MARSHALL TUCKER BAND
DESCRIPTION:The Marshall Tucker Bandwith special guest Nathan KingWednesday\, June 7 | 7pm24th Street ParkFREE and open to the public \n\n\n\nDoug Gray – lead vocalsB.B. Borden – drumsRyan Ware – bass / vocalsMarcus James Henderson – keyboards / saxophone / flute / vocalsChris Hicks – guitar / vocalsRick Willis – guitar / vocals \nWhen you wake up and want to put a smile on your face\, you think of the songs that always manage to reach down and touch your soul the moment you hear the first note. The Marshall Tucker Band is one such group that continues to have a profound level of impact on successive generations of listeners who’ve been “Searchin’ for a Rainbow” and found it perfectly represented by this tried-and-true Southern institution over the decades. \n  \n\n\n\nKNOW BEFORE YOU GO!:Allowed:• Beach Blanket\, towel\, or beach chair (without a foot rest or canopy)• Small Cooler• Outside Food and Drink (no alcohol)• Re-entry with Hand Stamp• Strollers \n\n\n\n\n\n\n\n\n\nProhibited:• Alcohol• Open containers of any kind• Glass containers• Bicycles• Pets (except certified service animals)• Professional Camera/Video Equipment• Umbrellas \n\n\n\n\n\n\n\n\n\n\n\n\n\n\n\n\n\n\n\nThank you to our Sponsors!
URL:https://beacheventsvb.com/event/oceanfront-concert-series-the-marshall-tucker-band/
LOCATION:24th Street Park\, 2405 Atlantic Ave\, Virginia Beach\, VA\, 23451\, United States
CATEGORIES:All Events,Festivals,Oceanfront Concert Series
ATTACH;FMTTYPE=image/png:https://beacheventsvb.com/wp-content/uploads/2023/01/web_header_mtb.png
GEO:36.852960626831;-75.975834805086
X-APPLE-STRUCTURED-LOCATION;VALUE=URI;X-ADDRESS=24th Street Park 2405 Atlantic Ave Virginia Beach VA 23451 United States;X-APPLE-RADIUS=500;X-TITLE=2405 Atlantic Ave:geo:-75.975834805086,36.852960626831
END:VEVENT
END:VCALENDAR