BEGIN:VCALENDAR
VERSION:2.0
PRODID:-//Beach Events Virginia Beach VA - ECPv6.13.2.1//NONSGML v1.0//EN
CALSCALE:GREGORIAN
METHOD:PUBLISH
X-WR-CALNAME:Beach Events Virginia Beach VA
X-ORIGINAL-URL:https://beacheventsvb.com
X-WR-CALDESC:Events for Beach Events Virginia Beach VA
REFRESH-INTERVAL;VALUE=DURATION:PT1H
X-Robots-Tag:noindex
X-PUBLISHED-TTL:PT1H
BEGIN:VTIMEZONE
TZID:America/New_York
BEGIN:DAYLIGHT
TZOFFSETFROM:-0500
TZOFFSETTO:-0400
TZNAME:EDT
DTSTART:20260308T070000
END:DAYLIGHT
BEGIN:STANDARD
TZOFFSETFROM:-0400
TZOFFSETTO:-0500
TZNAME:EST
DTSTART:20261101T060000
END:STANDARD
END:VTIMEZONE
BEGIN:VEVENT
DTSTART;TZID=America/New_York:20260424T190000
DTEND;TZID=America/New_York:20260424T220000
DTSTAMP:20260420T234630
CREATED:20260210T045515Z
LAST-MODIFIED:20260418T015801Z
UID:10003433-1777057200-1777068000@beacheventsvb.com
SUMMARY:Oceanfront Concert Series: Chayce Beckham
DESCRIPTION:Friday\, April 24th | 7 p.m. \n24th Street Park \nChayce Beckhamw/ special guest Cody ChristianFREE and open to the public\nGet ready for hot summer nights with the Oceanfront Concert Series at Virginia Beach\, a free music extravaganza taking place in the parks along the iconic Virginia Beach Boardwalk. This series brings fans together to revel in the magic of live music against the backdrop of the Atlantic oceanfront. \nEvent is part of Virginia Beach’s Stars\, Stripes & Spurs: Military Appreciation Weekend.  \nAbout Chayce Beckham: \nThe only artist to win American Idol singing his own songs\, rising country artist Chayce Beckham scored his first #1 at country radio with the platinum hit single “23.” A California native schooled on tough times and a mix of country\, rock\, hip hop and beyond\, the fiery songwriter with his own creative compass started a habit of heart-on-his-sleeve lyricism after a hard season of life left him feeling empty. Yet\, his warm rough rasp and steadfast drive charmed the nation on Idol‘s 19th season. With more than 536 million global on-demand streams and counting\, the bluesy and brutally honest anthem “23” debuted at #1 on both iTunes All Genre and Country singles charts\, and led his first album\, Bad for Me – available now. The breakout star co-wrote nine of 13 songs (three solo)\, showcasing Beckham opening his soul like most would never dare and embracing a timeless country-rock sound fueled by fiddles\, steel guitar\, and plenty of against-the-grain attitude. With dusky shades of heroes like Johnny Cash\, Waylon Jennings\, and Kris Kristofferson\, the set aims to reinforce next-big-thing and artist to watch predictions from the Grand Ole Opry\, CMT\, Amazon Music\, MusicRow and more. Beckham\, who joined Warren Zeiders on his 2025 Relapse\, Lies & Betrayal Tour\, followed his critically acclaimed debut with the fiddle-driven heartbreaker “Ocean Blue” and romantic ballad “Holdin’ You\, Lovin’ You.”   \n\nKNOW BEFORE YOU GOAllowed:• Beach blanket\, towel\, or beach chair (without a foot-rest or canopy)• Small cooler• Outside food and drink (no alcohol)• Re-entry with hand stamp• Strollers \n\n\n\n\n\n\n\n\n \nProhibited:• Alcohol• Open containers of any kind• Glass containers• Bicycles\, scooters\, skateboards\, or other vehicles• Pets (except certified service animals)• Professional Camera/Video Equipment• Umbrellas \n\nTHANKS TO OUR SPONSORS: \n                   \n     \n \n  \n     \n                  
URL:https://beacheventsvb.com/event/oceanfront-concert-series-chayce-beckham/
LOCATION:24th Street Park\, 2405 Atlantic Ave\, Virginia Beach\, VA\, 23451\, United States
CATEGORIES:All Events,Oceanfront Concert Series
ATTACH;FMTTYPE=image/jpeg:https://beacheventsvb.com/wp-content/uploads/2026/02/Chayce-Beckham.jpg
GEO:36.852960626831;-75.975834805086
X-APPLE-STRUCTURED-LOCATION;VALUE=URI;X-ADDRESS=24th Street Park 2405 Atlantic Ave Virginia Beach VA 23451 United States;X-APPLE-RADIUS=500;X-TITLE=2405 Atlantic Ave:geo:-75.975834805086,36.852960626831
END:VEVENT
BEGIN:VEVENT
DTSTART;TZID=America/New_York:20260425T190000
DTEND;TZID=America/New_York:20260425T220000
DTSTAMP:20260420T234630
CREATED:20260210T050313Z
LAST-MODIFIED:20260418T015832Z
UID:10003434-1777143600-1777154400@beacheventsvb.com
SUMMARY:Oceanfront Concert Series: Alana Springsteen
DESCRIPTION:Saturday\, April 25th | 7 p.m. \n24th Street Park \nAlana Springsteenw/ special guest Holy RollerFREE and open to the public\nGet ready for hot summer nights with the Oceanfront Concert Series at Virginia Beach\, a free music extravaganza taking place in the parks along the iconic Virginia Beach Boardwalk. This series brings fans together to revel in the magic of live music against the backdrop of the Atlantic oceanfront. \nEvent is part of Virginia Beach’s Stars\, Stripes & Spurs: Military Appreciation Weekend.  \n\nKNOW BEFORE YOU GOAllowed:• Beach blanket\, towel\, or beach chair (without a foot-rest or canopy)• Small cooler• Outside food and drink (no alcohol)• Re-entry with hand stamp• Strollers \n\n\n\n\n\n\n\n\n \nProhibited:• Alcohol• Open containers of any kind• Glass containers• Bicycles\, scooters\, skateboards\, or other vehicles• Pets (except certified service animals)• Professional Camera/Video Equipment• Umbrellas \n\nTHANK YOU TO OUR SPONSORS: \n                   \n     \n \n  \n     \n                  
URL:https://beacheventsvb.com/event/oceanfront-concert-series-alana-springsteen/
LOCATION:24th Street Park\, 2405 Atlantic Ave\, Virginia Beach\, VA\, 23451\, United States
CATEGORIES:All Events,Oceanfront Concert Series
ATTACH;FMTTYPE=image/jpeg:https://beacheventsvb.com/wp-content/uploads/2026/02/Alana-Springsteen.jpg
GEO:36.852960626831;-75.975834805086
X-APPLE-STRUCTURED-LOCATION;VALUE=URI;X-ADDRESS=24th Street Park 2405 Atlantic Ave Virginia Beach VA 23451 United States;X-APPLE-RADIUS=500;X-TITLE=2405 Atlantic Ave:geo:-75.975834805086,36.852960626831
END:VEVENT
END:VCALENDAR