BEGIN:VCALENDAR
VERSION:2.0
PRODID:-//Beach Events Virginia Beach VA - ECPv6.13.2.1//NONSGML v1.0//EN
CALSCALE:GREGORIAN
METHOD:PUBLISH
X-WR-CALNAME:Beach Events Virginia Beach VA
X-ORIGINAL-URL:https://beacheventsvb.com
X-WR-CALDESC:Events for Beach Events Virginia Beach VA
REFRESH-INTERVAL;VALUE=DURATION:PT1H
X-Robots-Tag:noindex
X-PUBLISHED-TTL:PT1H
BEGIN:VTIMEZONE
TZID:America/New_York
BEGIN:DAYLIGHT
TZOFFSETFROM:-0500
TZOFFSETTO:-0400
TZNAME:EDT
DTSTART:20220313T070000
END:DAYLIGHT
BEGIN:STANDARD
TZOFFSETFROM:-0400
TZOFFSETTO:-0500
TZNAME:EST
DTSTART:20221106T060000
END:STANDARD
END:VTIMEZONE
BEGIN:VEVENT
DTSTART;TZID=America/New_York:20220506T190000
DTEND;TZID=America/New_York:20220506T230000
DTSTAMP:20260420T025420
CREATED:20230130T215211Z
LAST-MODIFIED:20230130T215211Z
UID:10000927-1651863600-1651878000@beacheventsvb.com
SUMMARY:Live! On Atlantic
DESCRIPTION:Street Performances at 19th and 23rd Streets; 7:00 pm – 11:00 pm \n\n\n\n19th StreetGuy Collins – Comedy Juggling23rd StreetThe Rudos – “Two Generations of Crazy”
URL:https://beacheventsvb.com/event/live-on-atlantic-116/
LOCATION:VA
CATEGORIES:All Events,Live! On Atlantic
ATTACH;FMTTYPE=image/jpeg:https://beacheventsvb.com/wp-content/uploads/2023/01/LOA_2018-342-scaled-aCsgRV.tmp_.jpg
END:VEVENT
BEGIN:VEVENT
DTSTART;TZID=America/New_York:20220507T190000
DTEND;TZID=America/New_York:20220507T230000
DTSTAMP:20260420T025420
CREATED:20230130T215224Z
LAST-MODIFIED:20230130T215224Z
UID:10000928-1651950000-1651964400@beacheventsvb.com
SUMMARY:Live! On Atlantic
DESCRIPTION:Street Performances at 19th and 23rd Streets; 7:00 pm – 11:00 pm \n\n\n\n19th StreetGuy Collins – Comedy juggling23rd StreetThe Rudos – “Two Generations of Crazy”
URL:https://beacheventsvb.com/event/live-on-atlantic-117/
LOCATION:VA
CATEGORIES:All Events,Live! On Atlantic
ATTACH;FMTTYPE=image/jpeg:https://beacheventsvb.com/wp-content/uploads/2023/01/LOA_2018-342-scaled-aCsgRV.tmp_.jpg
END:VEVENT
BEGIN:VEVENT
DTSTART;TZID=America/New_York:20220507T190000
DTEND;TZID=America/New_York:20220507T230000
DTSTAMP:20260420T025420
CREATED:20230130T215225Z
LAST-MODIFIED:20230130T215225Z
UID:10000929-1651950000-1651964400@beacheventsvb.com
SUMMARY:Live! On Atlantic
DESCRIPTION:PARK PERFORMANCE AT 17TH AND 24TH STREET PARKS; 7:00 PM – 11:00 PM17th Street Park: Originally scheduled Nature’s Child moved to 24th Street Park24th Street Park: Originally scheduled Virginia International PANfest moved to the Virginia Beach Convention Center. Nature’s Child will now perform at 24th Street Park.
URL:https://beacheventsvb.com/event/live-on-atlantic-118/
LOCATION:VA
CATEGORIES:All Events,Live! On Atlantic
ATTACH;FMTTYPE=image/jpeg:https://beacheventsvb.com/wp-content/uploads/2021/12/Web-Concerts-10.jpg
END:VEVENT
END:VCALENDAR