BEGIN:VCALENDAR
VERSION:2.0
PRODID:-//Beach Events Virginia Beach VA - ECPv6.13.2.1//NONSGML v1.0//EN
CALSCALE:GREGORIAN
METHOD:PUBLISH
X-WR-CALNAME:Beach Events Virginia Beach VA
X-ORIGINAL-URL:https://beacheventsvb.com
X-WR-CALDESC:Events for Beach Events Virginia Beach VA
REFRESH-INTERVAL;VALUE=DURATION:PT1H
X-Robots-Tag:noindex
X-PUBLISHED-TTL:PT1H
BEGIN:VTIMEZONE
TZID:America/New_York
BEGIN:DAYLIGHT
TZOFFSETFROM:-0500
TZOFFSETTO:-0400
TZNAME:EDT
DTSTART:20230312T070000
END:DAYLIGHT
BEGIN:STANDARD
TZOFFSETFROM:-0400
TZOFFSETTO:-0500
TZNAME:EST
DTSTART:20231105T060000
END:STANDARD
END:VTIMEZONE
BEGIN:VEVENT
DTSTART;TZID=America/New_York:20230529T190000
DTEND;TZID=America/New_York:20230529T230000
DTSTAMP:20260419T200725
CREATED:20230524T193916Z
LAST-MODIFIED:20230524T193916Z
UID:10001170-1685386800-1685401200@beacheventsvb.com
SUMMARY:Live! on Atlantic Nightly Entertainment
DESCRIPTION:There’s a surprise waiting around every corner at Live! On Atlantic. The sidewalks and streets literally become the stage for performers representing many genres of music\, and novelty performers juggling\, walking on ropes high in the air\, and creating magic right in front of your eyes. \nFrom 16th to 25th Streets along Atlantic Avenue\, on 19th and 23rd Streets between Atlantic and Pacific\, and in the parks at 17th Street and 24th Street\, you’ll encounter free performances in the evenings that will help make your stay in Virginia Beach a memorable one! \nENTERTAINMENT FOR MONDAY\, MAY 29 \nMusic in the Parks:\n17th Street Stage: Kaboombox\n24th Street Stage: Vince Kornegay Band \nEntertainment in the Streets:\n19th Street: Krendl (Magic)\n23rd Street: Dallas Saupe (Juggling) \nSidewalk Entertainment:\n16th Street: Craig Wirth (Music)\n19th Street: Jade Zabric (Music)\n20th Street: Patrick Ryan Duo (Music)\n22nd Street: Lynn MacDonald (Psychic)\n23rd Street: Muddy Gemz (Music)\n23rd Street: Jake Fleming (Music)\n25th Street: Ezekiel Jump (Magic) \n 
URL:https://beacheventsvb.com/event/live-on-atlantic-5-29-23/
LOCATION:VA
CATEGORIES:Live! On Atlantic
ATTACH;FMTTYPE=image/jpeg:https://beacheventsvb.com/wp-content/uploads/2023/05/web_header_LOA-copy.jpg
END:VEVENT
BEGIN:VEVENT
DTSTART;TZID=America/New_York:20230530T190000
DTEND;TZID=America/New_York:20230530T230000
DTSTAMP:20260419T200725
CREATED:20230524T194245Z
LAST-MODIFIED:20230530T204602Z
UID:10001171-1685473200-1685487600@beacheventsvb.com
SUMMARY:Live! on Atlantic Nightly Entertainment
DESCRIPTION:There’s a surprise waiting around every corner at Live! On Atlantic. The sidewalks and streets literally become the stage for performers representing many genres of music\, and novelty performers juggling\, walking on ropes high in the air\, and creating magic right in front of your eyes. \nFrom 16th to 25th Streets along Atlantic Avenue\, on 19th and 23rd Streets between Atlantic and Pacific\, and in the parks at 17th Street and 24th Street\, you’ll encounter free performances in the evenings that will help make your stay in Virginia Beach a memorable one! \nENTERTAINMENT FOR TUESDAY\, MAY 30 | 7pm-11pm \nMusic in the Parks:\n17th Street Stage: Ground Level\n24th Street Stage: Fine Swiss Cheese \nEntertainment in the Streets:\n19th Street: Dallas Saupe (Juggling)\n23rd Street: Brian Rudo (Magic) \nSidewalk Entertainment:\n16th Street: Travis Morrison (Music)\n19th Street: Perk (Music)\n20th Street: Beverly Taylor (Music)\n22nd Street: Lynn MacDonald (Psychic)\n23rd Street: It’s Like That (Music)\n23rd Street: Miles Hoyle (Music)\n25th Street: Balloons by Francine (Balloon art) \nLine-ups are subject to change without notice.
URL:https://beacheventsvb.com/event/live-on-atlantic-9-30-23/
LOCATION:VA
CATEGORIES:Live! On Atlantic
ATTACH;FMTTYPE=image/jpeg:https://beacheventsvb.com/wp-content/uploads/2023/05/web_header_LOA-copy.jpg
END:VEVENT
BEGIN:VEVENT
DTSTART;TZID=America/New_York:20230531T190000
DTEND;TZID=America/New_York:20230531T230000
DTSTAMP:20260419T200725
CREATED:20230524T194427Z
LAST-MODIFIED:20230530T204816Z
UID:10001172-1685559600-1685574000@beacheventsvb.com
SUMMARY:Live! on Atlantic Nightly Entertainment
DESCRIPTION:There’s a surprise waiting around every corner at Live! On Atlantic. The sidewalks and streets literally become the stage for performers representing many genres of music\, and novelty performers juggling\, walking on ropes high in the air\, and creating magic right in front of your eyes. \nFrom 16th to 25th Streets along Atlantic Avenue\, on 19th and 23rd Streets between Atlantic and Pacific\, and in the parks at 17th Street and 24th Street\, you’ll encounter free performances in the evenings that will help make your stay in Virginia Beach a memorable one! \nENTERTAINMENT FOR WEDNESDAY\, MAY 31 | 7pm-11pm \nMusic in the Parks:\n17th Street Stage: The Feenies\n24th Street Stage: Foxglove \nEntertainment in the Streets:\n19th Street: Dallas Saupe (Juggling)\n23rd Street: Brian Rudo (Magic) \nSidewalk Entertainment:\n16th Street: Serenading and Saxie (Music)\n19th Street: Michael Benshish (Music)\n20th Street: Swell Luck (Music)\n22nd Street: Manil Bambi (Caricatures)\n23rd Street: Blue Mile Band (Music)\n23rd Street: James Manno (Music)\n25th Street: Lynn MacDonald (Psychic) \nLine-ups are subject to change without notice.
URL:https://beacheventsvb.com/event/live-on-atlantic-5-31-23/
LOCATION:VA
CATEGORIES:Live! On Atlantic
ATTACH;FMTTYPE=image/jpeg:https://beacheventsvb.com/wp-content/uploads/2023/05/web_header_LOA-copy.jpg
END:VEVENT
BEGIN:VEVENT
DTSTART;VALUE=DATE:20230601
DTEND;VALUE=DATE:20230606
DTSTAMP:20260419T200725
CREATED:20230404T210627Z
LAST-MODIFIED:20230605T123102Z
UID:10001151-1685599200-1685944799@beacheventsvb.com
SUMMARY:USO Experience Virginia Beach
DESCRIPTION:USO Experience Virginia Beach Concert SeriesFriday\, June 2-Sunday\, June 4 | 7:30pm17th and 24th Street ParksFREE and open to the public \nCONCERT SCHEDULEFriday\, June 217th Street Park: BALLYHOO! with special guest The Harbor Boys24th Street Park: The Ataris with special guest Don’t Panic \nSaturday\, June 317th Street Park: Alien Ant Farm with special guest Turncoat Syndicate24th Street Park: Molly Hatchet with special guest Mark DunnOn the Beach at 22nd Street beginning at 8:30pm: Family Movie Night: The Bad Guys PG \nSunday\, June 417th Street Park: Black Stone Cherry with special guest 710 Oil24th Street Park: Matt Stell with special guest Celeste KelloggUSO Village opens daily on the beach and boardwalk at 17th Street \nFor all USO events happening June 1-5\, visit www.uso.org/usoexperience-vb \nCelebrate the military and their families at the USO Experience Virginia Beach!  \nFor active service members and their families\, USO Experience Virginia Beach (VB) 2023 is a weeklong summer event that consists of a series of athletic\, recreational\, and social activities. For civilians\, USO Experience is a way to learn about and celebrate the armed forces through the military village and free nightly concerts!  \nUSO Experience VB 2023 social and educational events facilitate interactions between military and civilians and provide an opportunity for the civilian community to see that our service members are more than brave people keeping them safe. These common unifying experiences between the military service members and civilians let the military know they are supported\, valued\, and respected by their country. \nActivities for service members include Skydiving\, Paddleboarding\, Horseback Riding\, Surfing\, Kayaking and more.
URL:https://beacheventsvb.com/event/uso-experience-virginia-beach-2/
LOCATION:Virginia Beach Oceanfront\, Virginia Beach\, VA\, 23451\, United States
CATEGORIES:All Events,Festivals
ATTACH;FMTTYPE=image/jpeg:https://beacheventsvb.com/wp-content/uploads/2023/04/web_new_USOExperience-copy.jpg
GEO:36.8643566;-75.9985693
END:VEVENT
BEGIN:VEVENT
DTSTART;TZID=America/New_York:20230601T190000
DTEND;TZID=America/New_York:20230601T230000
DTSTAMP:20260419T200725
CREATED:20230525T190506Z
LAST-MODIFIED:20230530T205056Z
UID:10001174-1685646000-1685660400@beacheventsvb.com
SUMMARY:Live! on Atlantic Nightly Entertainment
DESCRIPTION:There’s a surprise waiting around every corner at Live! On Atlantic. The sidewalks and streets literally become the stage for performers representing many genres of music\, and novelty performers juggling\, walking on ropes high in the air\, and creating magic right in front of your eyes. \nFrom 16th to 25th Streets along Atlantic Avenue\, on 19th and 23rd Streets between Atlantic and Pacific\, and in the parks at 17th Street and 24th Street\, you’ll encounter free performances in the evenings that will help make your stay in Virginia Beach a memorable one! \nENTERTAINMENT FOR THURSDAY\, JUNE 1 | 7pm-11pm \nMusic in the Parks:\n17th Street Stage: Brandon Bower Band\n24th Street Stage: Barricade \nEntertainment in the Streets:\n19th Street: Dallas Saupe (Juggling)\n23rd Street: BMX (Bicycle stunt show) \nSidewalk Entertainment:\n16th Street: Smoove Steel (Music)\n19th Street: Pancho Ramon Villa (Music)\n20th Street: One Man Band (Music)\n22nd Street: Chris Yerling (Living Stature)\n23rd Street: Sons of the Beach (Music)\n23rd Street: Cambra Cradduck (Music)\n25th Street: Mike N Dale (Spray paint) \nLine-ups are subject to change without notice. \n 
URL:https://beacheventsvb.com/event/live-on-atlantic-6-1-23/
LOCATION:VA
CATEGORIES:Live! On Atlantic
ATTACH;FMTTYPE=image/jpeg:https://beacheventsvb.com/wp-content/uploads/2023/05/web_header_LOA-copy.jpg
END:VEVENT
BEGIN:VEVENT
DTSTART;TZID=America/New_York:20230602T190000
DTEND;TZID=America/New_York:20230602T230000
DTSTAMP:20260419T200725
CREATED:20230525T190822Z
LAST-MODIFIED:20230530T205309Z
UID:10001175-1685732400-1685746800@beacheventsvb.com
SUMMARY:Live! on Atlantic Nightly Entertainment
DESCRIPTION:There’s a surprise waiting around every corner at Live! On Atlantic. The sidewalks and streets literally become the stage for performers representing many genres of music\, and novelty performers juggling\, walking on ropes high in the air\, and creating magic right in front of your eyes. \nFrom 16th to 25th Streets along Atlantic Avenue\, on 19th and 23rd Streets between Atlantic and Pacific\, and in the parks at 17th Street and 24th Street\, you’ll encounter free performances in the evenings that will help make your stay in Virginia Beach a memorable one! \nENTERTAINMENT FOR FRIDAY\, JUNE 2 | 7pm-11pm \nMusic in the Parks:\n17th Street Stage: USO Experience Virginia Beach\, Ballyhoo with special guest The Harbor Boys\n24th Street Stage: USO Experience Virginia Beach\, The Ataris with special guest Don’t Panic \nEntertainment in the Streets:\n19th Street: Dallas Saupe (Juggling)\n23rd Street: BMX (Bicycle stunt show) \nSidewalk Entertainment:\n16th Street: One Man Bass Band (Music)\n19th Street: Stan Howard (Music)\n20th Street: Black and Gold (Music)\n22nd Street: Chris Yerling (Living Stature)\n23rd Street: DJ Melody Waters (Family-friendly dance party)\n23rd Street: Carl Olson (Music)\n25th Street: Balloons by Francine (Balloon Art)\nPiano Bike: Michael Benshish \nLine-ups are subject to change without notice.
URL:https://beacheventsvb.com/event/live-on-atlantic-6-2-23/
LOCATION:VA
CATEGORIES:Live! On Atlantic
ATTACH;FMTTYPE=image/jpeg:https://beacheventsvb.com/wp-content/uploads/2023/05/web_header_LOA-copy.jpg
END:VEVENT
BEGIN:VEVENT
DTSTART;TZID=America/New_York:20230603T190000
DTEND;TZID=America/New_York:20230603T230000
DTSTAMP:20260419T200725
CREATED:20230525T191041Z
LAST-MODIFIED:20230530T205432Z
UID:10001176-1685818800-1685833200@beacheventsvb.com
SUMMARY:Live! on Atlantic Nightly Entertainment
DESCRIPTION:There’s a surprise waiting around every corner at Live! On Atlantic. The sidewalks and streets literally become the stage for performers representing many genres of music\, and novelty performers juggling\, walking on ropes high in the air\, and creating magic right in front of your eyes. \nFrom 16th to 25th Streets along Atlantic Avenue\, on 19th and 23rd Streets between Atlantic and Pacific\, and in the parks at 17th Street and 24th Street\, you’ll encounter free performances in the evenings that will help make your stay in Virginia Beach a memorable one! \nENTERTAINMENT FOR SATURDAY\, JUNE 3 | 7pm-11pm \nMusic in the Parks:\n17th Street Stage: USO Experience Virginia Beach\, Alien Ant Farm with special guest Turncoat Syndicate\n24th Street Stage: USO Experience Virginia Beach\, Molly Hatchet with special guest Mark Dunn \nEntertainment in the Streets:\n19th Street: Dallas Saupe (Juggling)\n23rd Street: BMX (Bicycle stunt show) \nSidewalk Entertainment:\n16th Street: Smoove Steel (Music)\n19th Street: Alyssa Kay (Music)\n20th Street: Stan the Man Hampton (Music)\n22nd Street: Chris Yerling (Living Stature)\n23rd Street: SALT (Music)\n23rd Street: Brian Gray (Music)\n25th Street: Manil Bambi (Caricature artist)\nPiano Bike: Michael Benshish \nLine-ups are subject to change without notice.
URL:https://beacheventsvb.com/event/live-on-atlantic-6-3-23/
LOCATION:VA
CATEGORIES:Live! On Atlantic
ATTACH;FMTTYPE=image/jpeg:https://beacheventsvb.com/wp-content/uploads/2023/05/web_header_LOA-copy.jpg
END:VEVENT
BEGIN:VEVENT
DTSTART;TZID=America/New_York:20230604T190000
DTEND;TZID=America/New_York:20230604T230000
DTSTAMP:20260419T200725
CREATED:20230525T191515Z
LAST-MODIFIED:20230530T205642Z
UID:10001177-1685905200-1685919600@beacheventsvb.com
SUMMARY:Live! on Atlantic Nightly Entertainment
DESCRIPTION:There’s a surprise waiting around every corner at Live! On Atlantic. The sidewalks and streets literally become the stage for performers representing many genres of music\, and novelty performers juggling\, walking on ropes high in the air\, and creating magic right in front of your eyes. \nFrom 16th to 25th Streets along Atlantic Avenue\, on 19th and 23rd Streets between Atlantic and Pacific\, and in the parks at 17th Street and 24th Street\, you’ll encounter free performances in the evenings that will help make your stay in Virginia Beach a memorable one! \nENTERTAINMENT FOR SUNDAY\, JUNE 4 | 7pm-11pm \nMusic in the Parks:\n17th Street Stage: USO Experience Virginia Beach\, Black Stone Cherry with special guest Kingdom Collapse\n24th Street Stage: USO Experience Virginia Beach\, Matt Stell with special guest Celeste Kellogg \nEntertainment in the Streets:\n19th Street: Dallas Saupe & Sharon Mahoney (Juggling)\n23rd Street: BMX Show (Bicycle Stunt Show) \nSidewalk Entertainment:\n16th Street: Suzanne McGuire with Michael Benshish (Music)\n19th Street: Paul Norfleet (Music)\n20th Street: Two Arms of Flight (Music)\n22nd Street: Ezekiel Jump (Magic)\n23rd Street: H.M. Johnson Band (Music)\n23rd Street: John the One Man Band (Music) \nRoving Entertainment\nChris Yelig (Living statue) \nLine-ups are subject to change without notice.
URL:https://beacheventsvb.com/event/live-on-atlantic-6-4-23/
LOCATION:VA
CATEGORIES:Live! On Atlantic
ATTACH;FMTTYPE=image/jpeg:https://beacheventsvb.com/wp-content/uploads/2023/05/web_header_LOA-copy.jpg
END:VEVENT
END:VCALENDAR