BEGIN:VCALENDAR
VERSION:2.0
PRODID:-//Beach Events Virginia Beach VA - ECPv6.13.2.1//NONSGML v1.0//EN
CALSCALE:GREGORIAN
METHOD:PUBLISH
X-ORIGINAL-URL:https://beacheventsvb.com
X-WR-CALDESC:Events for Beach Events Virginia Beach VA
REFRESH-INTERVAL;VALUE=DURATION:PT1H
X-Robots-Tag:noindex
X-PUBLISHED-TTL:PT1H
BEGIN:VTIMEZONE
TZID:America/New_York
BEGIN:DAYLIGHT
TZOFFSETFROM:-0500
TZOFFSETTO:-0400
TZNAME:EDT
DTSTART:20230312T070000
END:DAYLIGHT
BEGIN:STANDARD
TZOFFSETFROM:-0400
TZOFFSETTO:-0500
TZNAME:EST
DTSTART:20231105T060000
END:STANDARD
END:VTIMEZONE
BEGIN:VEVENT
DTSTART;VALUE=DATE:20230601
DTEND;VALUE=DATE:20230606
DTSTAMP:20260419T124727
CREATED:20230404T210627Z
LAST-MODIFIED:20230605T123102Z
UID:10001151-1685599200-1685944799@beacheventsvb.com
SUMMARY:USO Experience Virginia Beach
DESCRIPTION:USO Experience Virginia Beach Concert SeriesFriday\, June 2-Sunday\, June 4 | 7:30pm17th and 24th Street ParksFREE and open to the public \nCONCERT SCHEDULEFriday\, June 217th Street Park: BALLYHOO! with special guest The Harbor Boys24th Street Park: The Ataris with special guest Don’t Panic \nSaturday\, June 317th Street Park: Alien Ant Farm with special guest Turncoat Syndicate24th Street Park: Molly Hatchet with special guest Mark DunnOn the Beach at 22nd Street beginning at 8:30pm: Family Movie Night: The Bad Guys PG \nSunday\, June 417th Street Park: Black Stone Cherry with special guest 710 Oil24th Street Park: Matt Stell with special guest Celeste KelloggUSO Village opens daily on the beach and boardwalk at 17th Street \nFor all USO events happening June 1-5\, visit www.uso.org/usoexperience-vb \nCelebrate the military and their families at the USO Experience Virginia Beach!  \nFor active service members and their families\, USO Experience Virginia Beach (VB) 2023 is a weeklong summer event that consists of a series of athletic\, recreational\, and social activities. For civilians\, USO Experience is a way to learn about and celebrate the armed forces through the military village and free nightly concerts!  \nUSO Experience VB 2023 social and educational events facilitate interactions between military and civilians and provide an opportunity for the civilian community to see that our service members are more than brave people keeping them safe. These common unifying experiences between the military service members and civilians let the military know they are supported\, valued\, and respected by their country. \nActivities for service members include Skydiving\, Paddleboarding\, Horseback Riding\, Surfing\, Kayaking and more.
URL:https://beacheventsvb.com/event/uso-experience-virginia-beach-2/
LOCATION:Virginia Beach Oceanfront\, Virginia Beach\, VA\, 23451\, United States
CATEGORIES:All Events,Festivals
ATTACH;FMTTYPE=image/jpeg:https://beacheventsvb.com/wp-content/uploads/2023/04/web_new_USOExperience-copy.jpg
GEO:36.8643566;-75.9985693
END:VEVENT
BEGIN:VEVENT
DTSTART;TZID=America/New_York:20230605T190000
DTEND;TZID=America/New_York:20230605T230000
DTSTAMP:20260419T124727
CREATED:20230525T191915Z
LAST-MODIFIED:20230530T195230Z
UID:10001178-1685991600-1686006000@beacheventsvb.com
SUMMARY:Live! on Atlantic Nightly Entertainment
DESCRIPTION:There’s a surprise waiting around every corner at Live! On Atlantic. The sidewalks and streets literally become the stage for performers representing many genres of music\, and novelty performers juggling\, walking on ropes high in the air\, and creating magic right in front of your eyes. \nFrom 16th to 25th Streets along Atlantic Avenue\, on 19th and 23rd Streets between Atlantic and Pacific\, and in the parks at 17th Street and 24th Street\, you’ll encounter free performances in the evenings that will help make your stay in Virginia Beach a memorable one! \nENTERTAINMENT FOR MONDAY\, JUNE 5 | 7pm-11pm \nMusic in the Parks:\n17th Street Stage: Derek Smith and the New Day\n24th Street Stage: Joe Gosman Band \nEntertainment in the Streets:\n19th Street: Dallas Saupe (Juggling)\n23rd Street: Sharon Mahoney (Comedy and juggling) \nSidewalk Entertainment:\n16th Street: TBA\n19th Street: TBA\n20th Street: TBA\n22nd Street: Chris Yerling (Living Stature)\n23rd Street: TBA\n23rd Street: TBA\n25th Street: Lynn MacDonald (Psychic) \nLine-ups are subject to change without notice.
URL:https://beacheventsvb.com/event/live-on-atlantic-6-5-23/
LOCATION:VA
CATEGORIES:Live! On Atlantic
ATTACH;FMTTYPE=image/jpeg:https://beacheventsvb.com/wp-content/uploads/2023/05/web_header_LOA-copy.jpg
END:VEVENT
BEGIN:VEVENT
DTSTART;TZID=America/New_York:20230606T190000
DTEND;TZID=America/New_York:20230606T230000
DTSTAMP:20260419T124727
CREATED:20230525T201008Z
LAST-MODIFIED:20230530T195252Z
UID:10001179-1686078000-1686092400@beacheventsvb.com
SUMMARY:Live! on Atlantic Nightly Entertainment
DESCRIPTION:There’s a surprise waiting around every corner at Live! On Atlantic. The sidewalks and streets literally become the stage for performers representing many genres of music\, and novelty performers juggling\, walking on ropes high in the air\, and creating magic right in front of your eyes. \nFrom 16th to 25th Streets along Atlantic Avenue\, on 19th and 23rd Streets between Atlantic and Pacific\, and in the parks at 17th Street and 24th Street\, you’ll encounter free performances in the evenings that will help make your stay in Virginia Beach a memorable one! \nENTERTAINMENT FOR TUESDAY\, JUNE 6 | 7pm-11pm \nMusic in the Parks:\n17th Street Stage: One Culture\n24th Street Stage: Anthony Rosano & the Conqueroos \nEntertainment in the Streets:\n19th Street: Hilby (Juggling)\n23rd Street: Sharon Mahoney (Comedy and juggling) \nSidewalk Entertainment:\n16th Street: TBA\n19th Street: TBA\n20th Street: TBA\n22nd Street: Chris Yerling (Living Stature)\n23rd Street: TBA\n23rd Street: TBA\n25th Street: Stephanie Cook (Spray paint art) \nLine-ups are subject to change without notice.
URL:https://beacheventsvb.com/event/live-on-atlantic-6-6-23/
LOCATION:VA
CATEGORIES:Live! On Atlantic
ATTACH;FMTTYPE=image/jpeg:https://beacheventsvb.com/wp-content/uploads/2023/05/web_header_LOA-copy.jpg
END:VEVENT
BEGIN:VEVENT
DTSTART;TZID=America/New_York:20230607T190000
DTEND;TZID=America/New_York:20230607T230000
DTSTAMP:20260419T124727
CREATED:20230525T202654Z
LAST-MODIFIED:20230530T195308Z
UID:10001180-1686164400-1686178800@beacheventsvb.com
SUMMARY:Live! on Atlantic Nightly Entertainment
DESCRIPTION:There’s a surprise waiting around every corner at Live! On Atlantic. The sidewalks and streets literally become the stage for performers representing many genres of music\, and novelty performers juggling\, walking on ropes high in the air\, and creating magic right in front of your eyes. \nFrom 16th to 25th Streets along Atlantic Avenue\, on 19th and 23rd Streets between Atlantic and Pacific\, and in the parks at 17th Street and 24th Street\, you’ll encounter free performances in the evenings that will help make your stay in Virginia Beach a memorable one! \nENTERTAINMENT FOR WEDNESDAY\, JUNE 7 | 7pm-11pm \nMusic in the Parks:\n17th Street Stage: Big Forest Fire\n24th Street Stage: Oceanfront Concert Series\, Marshall Tucker Band \nEntertainment in the Streets:\n19th Street: Hilby (Juggling)\n23rd Street: Sharon Mahoney (Comedy and juggling) \nSidewalk Entertainment:\n16th Street: TBA\n19th Street: TBA\n20th Street: TBA\n22nd Street: Chris Yerling (Living Stature)\n23rd Street: TBA\n23rd Street: TBA\n25th Street: Lynn MacDonald (Psychic) \nLine-ups are subject to change without notice.
URL:https://beacheventsvb.com/event/live-on-atlantic-6-7-23/
LOCATION:VA
CATEGORIES:Live! On Atlantic
ATTACH;FMTTYPE=image/jpeg:https://beacheventsvb.com/wp-content/uploads/2023/05/web_header_LOA-copy.jpg
END:VEVENT
BEGIN:VEVENT
DTSTART;TZID=America/New_York:20230607T190000
DTEND;TZID=America/New_York:20230607T235000
DTSTAMP:20260419T124727
CREATED:20230321T120007Z
LAST-MODIFIED:20230608T140241Z
UID:10001145-1686164400-1686181800@beacheventsvb.com
SUMMARY:Oceanfront Concert Series: THE MARSHALL TUCKER BAND
DESCRIPTION:The Marshall Tucker Bandwith special guest Nathan KingWednesday\, June 7 | 7pm24th Street ParkFREE and open to the public \n\n\n\nDoug Gray – lead vocalsB.B. Borden – drumsRyan Ware – bass / vocalsMarcus James Henderson – keyboards / saxophone / flute / vocalsChris Hicks – guitar / vocalsRick Willis – guitar / vocals \nWhen you wake up and want to put a smile on your face\, you think of the songs that always manage to reach down and touch your soul the moment you hear the first note. The Marshall Tucker Band is one such group that continues to have a profound level of impact on successive generations of listeners who’ve been “Searchin’ for a Rainbow” and found it perfectly represented by this tried-and-true Southern institution over the decades. \n  \n\n\n\nKNOW BEFORE YOU GO!:Allowed:• Beach Blanket\, towel\, or beach chair (without a foot rest or canopy)• Small Cooler• Outside Food and Drink (no alcohol)• Re-entry with Hand Stamp• Strollers \n\n\n\n\n\n\n\n\n\nProhibited:• Alcohol• Open containers of any kind• Glass containers• Bicycles• Pets (except certified service animals)• Professional Camera/Video Equipment• Umbrellas \n\n\n\n\n\n\n\n\n\n\n\n\n\n\n\n\n\n\n\nThank you to our Sponsors!
URL:https://beacheventsvb.com/event/oceanfront-concert-series-the-marshall-tucker-band/
LOCATION:24th Street Park\, 2405 Atlantic Ave\, Virginia Beach\, VA\, 23451\, United States
CATEGORIES:All Events,Festivals,Oceanfront Concert Series
ATTACH;FMTTYPE=image/png:https://beacheventsvb.com/wp-content/uploads/2023/01/web_header_mtb.png
GEO:36.852960626831;-75.975834805086
X-APPLE-STRUCTURED-LOCATION;VALUE=URI;X-ADDRESS=24th Street Park 2405 Atlantic Ave Virginia Beach VA 23451 United States;X-APPLE-RADIUS=500;X-TITLE=2405 Atlantic Ave:geo:-75.975834805086,36.852960626831
END:VEVENT
BEGIN:VEVENT
DTSTART;TZID=America/New_York:20230608T190000
DTEND;TZID=America/New_York:20230608T230000
DTSTAMP:20260419T124727
CREATED:20230525T202921Z
LAST-MODIFIED:20230530T195336Z
UID:10001181-1686250800-1686265200@beacheventsvb.com
SUMMARY:Live! on Atlantic Nightly Entertainment
DESCRIPTION:There’s a surprise waiting around every corner at Live! On Atlantic. The sidewalks and streets literally become the stage for performers representing many genres of music\, and novelty performers juggling\, walking on ropes high in the air\, and creating magic right in front of your eyes. \nFrom 16th to 25th Streets along Atlantic Avenue\, on 19th and 23rd Streets between Atlantic and Pacific\, and in the parks at 17th Street and 24th Street\, you’ll encounter free performances in the evenings that will help make your stay in Virginia Beach a memorable one! \nENTERTAINMENT FOR THURSDAY\, JUNE 8 | 7pm-11pm \nMusic in the Parks:\n17th Street Stage: Dave Johnson & the Truth\n24th Street Stage: Nature’s Child \nEntertainment in the Streets:\n19th Street: Hilby (Juggling)\n23rd Street: Sharon Mahoney (Comedy and juggling) \nSidewalk Entertainment:\n16th Street: TBA\n19th Street: TBA\n20th Street: TBA\n22nd Street: Chris Yerling (Living Stature)\n23rd Street: TBA\n23rd Street: TBA\n25th Street: Balloons by Francine (Balloon art) \nLine-ups are subject to change without notice.
URL:https://beacheventsvb.com/event/live-on-atlantic-6-8-23/
LOCATION:VA
CATEGORIES:Live! On Atlantic
ATTACH;FMTTYPE=image/jpeg:https://beacheventsvb.com/wp-content/uploads/2023/05/web_header_LOA-copy.jpg
END:VEVENT
BEGIN:VEVENT
DTSTART;TZID=America/New_York:20230609T190000
DTEND;TZID=America/New_York:20230609T230000
DTSTAMP:20260419T124727
CREATED:20230525T203138Z
LAST-MODIFIED:20230530T195355Z
UID:10001182-1686337200-1686351600@beacheventsvb.com
SUMMARY:Live! on Atlantic Nightly Entertainment
DESCRIPTION:There’s a surprise waiting around every corner at Live! On Atlantic. The sidewalks and streets literally become the stage for performers representing many genres of music\, and novelty performers juggling\, walking on ropes high in the air\, and creating magic right in front of your eyes. \nFrom 16th to 25th Streets along Atlantic Avenue\, on 19th and 23rd Streets between Atlantic and Pacific\, and in the parks at 17th Street and 24th Street\, you’ll encounter free performances in the evenings that will help make your stay in Virginia Beach a memorable one! \nENTERTAINMENT FOR FRIDAY\, JUNE 9 | 7pm-11pm \nMusic in the Parks:\n17th Street Stage: TBA\n24th Street Stage: The River Boyz \nEntertainment in the Streets:\n19th Street: Hilby (Juggling)\n23rd Street: Sharon Mahoney (Comedy and juggling) \nSidewalk Entertainment:\n16th Street: TBA\n19th Street: TBA\n20th Street: TBA\n22nd Street: Chris Yerling (Living Stature)\n23rd Street: TBA\n23rd Street: TBA\n25th Street: Manil Bambi (Caricature art) \nLine-ups are subject to change without notice.
URL:https://beacheventsvb.com/event/live-on-atlantic-6-9-23/
LOCATION:VA
CATEGORIES:Live! On Atlantic
ATTACH;FMTTYPE=image/jpeg:https://beacheventsvb.com/wp-content/uploads/2023/05/web_header_LOA-copy.jpg
END:VEVENT
BEGIN:VEVENT
DTSTART;TZID=America/New_York:20230610T190000
DTEND;TZID=America/New_York:20230610T230000
DTSTAMP:20260419T124727
CREATED:20230525T203347Z
LAST-MODIFIED:20230530T195416Z
UID:10001183-1686423600-1686438000@beacheventsvb.com
SUMMARY:Live! on Atlantic Nightly Entertainment
DESCRIPTION:There’s a surprise waiting around every corner at Live! On Atlantic. The sidewalks and streets literally become the stage for performers representing many genres of music\, and novelty performers juggling\, walking on ropes high in the air\, and creating magic right in front of your eyes. \nFrom 16th to 25th Streets along Atlantic Avenue\, on 19th and 23rd Streets between Atlantic and Pacific\, and in the parks at 17th Street and 24th Street\, you’ll encounter free performances in the evenings that will help make your stay in Virginia Beach a memorable one! \nENTERTAINMENT FOR SATURDAY\, JUNE 10 | 7pm-11pm \nMusic in the Parks:\n17th Street Stage: Skylark\n24th Street Stage: Splash! Electronic Dance Party featuring DJ Ponfetti\, DJ Hutch\, and Team Ragoza \nEntertainment in the Streets:\n19th Street: Hilby (Juggling)\n23rd Street: Sharon Mahoney (Comedy and juggling) \nSidewalk Entertainment:\n16th Street: TBA\n19th Street: TBA\n20th Street: TBA\n22nd Street: Chris Yerling (Living Stature)\n23rd Street: TBA\n23rd Street: TBA\n25th Street: Ezekiel Jump (Magic) \nLine-ups are subject to change without notice.
URL:https://beacheventsvb.com/event/live-on-atlantic-6-10-23/
LOCATION:VA
CATEGORIES:Live! On Atlantic
ATTACH;FMTTYPE=image/jpeg:https://beacheventsvb.com/wp-content/uploads/2023/05/web_header_LOA-copy.jpg
END:VEVENT
BEGIN:VEVENT
DTSTART;TZID=America/New_York:20230610T190000
DTEND;TZID=America/New_York:20230610T230000
DTSTAMP:20260419T124727
CREATED:20230530T185836Z
LAST-MODIFIED:20230612T135209Z
UID:10001204-1686423600-1686438000@beacheventsvb.com
SUMMARY:Splash! Electronic Dance Party
DESCRIPTION:Splash! Electronic Dance Party\nFeaturing DJ Ponfetti\, DJ Hutch\, and Team Rogoza \nSaturday\, June 10 | 7pm-11pm\n24th Street Park\nFREE and open to the public\n \nBring the entire family to dance the night away with high-energy lasers\, lights\, motion\, & music.  Join DJ Ponfetti\, DJ Hutch\, and Team Rogoza for an exciting night of electronic dance music. Splash! Electronic Dance Party is FREE fun for all ages. \nLine-up subject to change.
URL:https://beacheventsvb.com/event/splash-electronic-dance-party-6-10-23/
LOCATION:24th Street Park\, 2405 Atlantic Ave\, Virginia Beach\, VA\, 23451\, United States
CATEGORIES:All Events,Live! On Atlantic
ATTACH;FMTTYPE=image/jpeg:https://beacheventsvb.com/wp-content/uploads/2023/05/web-header_splash-copy.jpg
GEO:36.852960626831;-75.975834805086
X-APPLE-STRUCTURED-LOCATION;VALUE=URI;X-ADDRESS=24th Street Park 2405 Atlantic Ave Virginia Beach VA 23451 United States;X-APPLE-RADIUS=500;X-TITLE=2405 Atlantic Ave:geo:-75.975834805086,36.852960626831
END:VEVENT
BEGIN:VEVENT
DTSTART;TZID=America/New_York:20230611T190000
DTEND;TZID=America/New_York:20230611T230000
DTSTAMP:20260419T124727
CREATED:20230525T203710Z
LAST-MODIFIED:20230530T195433Z
UID:10001184-1686510000-1686524400@beacheventsvb.com
SUMMARY:Live! on Atlantic Nightly Entertainment
DESCRIPTION:There’s a surprise waiting around every corner at Live! On Atlantic. The sidewalks and streets literally become the stage for performers representing many genres of music\, and novelty performers juggling\, walking on ropes high in the air\, and creating magic right in front of your eyes. \nFrom 16th to 25th Streets along Atlantic Avenue\, on 19th and 23rd Streets between Atlantic and Pacific\, and in the parks at 17th Street and 24th Street\, you’ll encounter free performances in the evenings that will help make your stay in Virginia Beach a memorable one! \nENTERTAINMENT FOR SUNDAY\, JUNE 11 | 7pm-11pm \nMusic in the Parks:\n17th Street Stage: Bill Miles Band\n24th Street Stage: The Janitors \nEntertainment in the Streets:\n19th Street: Hilby (Juggling)\n23rd Street: Sharon Mahoney (Comedy and juggling) \nSidewalk Entertainment:\n16th Street: TBA\n19th Street: TBA\n20th Street: TBA\n22nd Street: Lynn MacDonald (Psychic)\n23rd Street: TBA\n23rd Street: TBA\n25th Street: Stephanie Cook (Spray paint art) \nRoving Entertainment:\nChris Yelig (Living statue) \nLine-ups are subject to change without notice.
URL:https://beacheventsvb.com/event/live-on-atlantic-6-11-23/
LOCATION:VA
CATEGORIES:Live! On Atlantic
ATTACH;FMTTYPE=image/jpeg:https://beacheventsvb.com/wp-content/uploads/2023/05/web_header_LOA-copy.jpg
END:VEVENT
END:VCALENDAR