BEGIN:VCALENDAR
VERSION:2.0
PRODID:-//Beach Events Virginia Beach VA - ECPv6.13.2.1//NONSGML v1.0//EN
CALSCALE:GREGORIAN
METHOD:PUBLISH
X-WR-CALNAME:Beach Events Virginia Beach VA
X-ORIGINAL-URL:https://beacheventsvb.com
X-WR-CALDESC:Events for Beach Events Virginia Beach VA
REFRESH-INTERVAL;VALUE=DURATION:PT1H
X-Robots-Tag:noindex
X-PUBLISHED-TTL:PT1H
BEGIN:VTIMEZONE
TZID:America/New_York
BEGIN:DAYLIGHT
TZOFFSETFROM:-0500
TZOFFSETTO:-0400
TZNAME:EDT
DTSTART:20250309T070000
END:DAYLIGHT
BEGIN:STANDARD
TZOFFSETFROM:-0400
TZOFFSETTO:-0500
TZNAME:EST
DTSTART:20251102T060000
END:STANDARD
END:VTIMEZONE
BEGIN:VEVENT
DTSTART;TZID=America/New_York:20250411T193000
DTEND;TZID=America/New_York:20250411T223000
DTSTAMP:20260421T035713
CREATED:20250411T134040Z
LAST-MODIFIED:20250411T134049Z
UID:10002886-1744399800-1744410600@beacheventsvb.com
SUMMARY:
DESCRIPTION:Local bands on stage tonight! \n7:30PM \n17th Street Park – Foxglove \n24th Street Park – Later That Night
URL:https://beacheventsvb.com/event/12051/
LOCATION:17th and 24th Streets Parks\, Virginia Beach\, VA\, 23451\, United States
CATEGORIES:Live! On Atlantic
GEO:36.8643566;-75.9985693
END:VEVENT
BEGIN:VEVENT
DTSTART;TZID=America/New_York:20250411T193000
DTEND;TZID=America/New_York:20250411T230000
DTSTAMP:20260421T035713
CREATED:20250411T170111Z
LAST-MODIFIED:20250411T171400Z
UID:10002887-1744399800-1744412400@beacheventsvb.com
SUMMARY:Live! On Atlantic
DESCRIPTION:Free concerts!\nLocal bands on stage tonight!\n7:30PM\n17th Street Park – Foxglove\n24th Street Park – Later That Night
URL:https://beacheventsvb.com/event/live-on-atlantic/
LOCATION:17th and 24th Streets Parks\, Virginia Beach\, VA\, 23451\, United States
CATEGORIES:Live! On Atlantic
GEO:36.8643566;-75.9985693
END:VEVENT
BEGIN:VEVENT
DTSTART;TZID=America/New_York:20250412T193000
DTEND;TZID=America/New_York:20250412T230000
DTSTAMP:20260421T035713
CREATED:20250411T170351Z
LAST-MODIFIED:20250411T171423Z
UID:10002888-1744486200-1744498800@beacheventsvb.com
SUMMARY:Live! On Atlantic
DESCRIPTION:Free concerts!\nLocal bands on stage tonight!\n7:30PM\n17th Street Park – Janitors\n24th Street Park – Michael Clark Band
URL:https://beacheventsvb.com/event/live-on-atlantic-2/
LOCATION:17th and 24th Streets Parks\, Virginia Beach\, VA\, 23451\, United States
CATEGORIES:Live! On Atlantic
GEO:36.8643566;-75.9985693
END:VEVENT
END:VCALENDAR