BEGIN:VCALENDAR
VERSION:2.0
PRODID:-//Beach Events Virginia Beach VA - ECPv6.13.2.1//NONSGML v1.0//EN
CALSCALE:GREGORIAN
METHOD:PUBLISH
X-WR-CALNAME:Beach Events Virginia Beach VA
X-ORIGINAL-URL:https://beacheventsvb.com
X-WR-CALDESC:Events for Beach Events Virginia Beach VA
REFRESH-INTERVAL;VALUE=DURATION:PT1H
X-Robots-Tag:noindex
X-PUBLISHED-TTL:PT1H
BEGIN:VTIMEZONE
TZID:America/New_York
BEGIN:DAYLIGHT
TZOFFSETFROM:-0500
TZOFFSETTO:-0400
TZNAME:EDT
DTSTART:20250309T070000
END:DAYLIGHT
BEGIN:STANDARD
TZOFFSETFROM:-0400
TZOFFSETTO:-0500
TZNAME:EST
DTSTART:20251102T060000
END:STANDARD
END:VTIMEZONE
BEGIN:VEVENT
DTSTART;TZID=America/New_York:20250418T193000
DTEND;TZID=America/New_York:20250418T230000
DTSTAMP:20260419T200956
CREATED:20250411T171006Z
LAST-MODIFIED:20250411T171444Z
UID:10002889-1745004600-1745017200@beacheventsvb.com
SUMMARY:Live! On Atlantic
DESCRIPTION:Free concerts!\nLocal bands on stage tonight!\n7:30PM\n17th Street Park – Vince Kornegay Band\n24th Street Park – Free for All
URL:https://beacheventsvb.com/event/live-on-atlantic-3/
LOCATION:17th and 24th Streets Parks\, Virginia Beach\, VA\, 23451\, United States
CATEGORIES:Live! On Atlantic
GEO:36.8643566;-75.9985693
END:VEVENT
BEGIN:VEVENT
DTSTART;TZID=America/New_York:20250419T193000
DTEND;TZID=America/New_York:20250419T230000
DTSTAMP:20260419T200956
CREATED:20250411T171121Z
LAST-MODIFIED:20250411T171502Z
UID:10002890-1745091000-1745103600@beacheventsvb.com
SUMMARY:Live! On Atlantic
DESCRIPTION:Free concerts!\nLocal bands on stage tonight!\n7:30PM\n17th Street Park – Bill Miles Band\n24th Street Park – Dave Johnson & the Truth
URL:https://beacheventsvb.com/event/live-on-atlantic-4/
LOCATION:17th and 24th Streets Parks\, Virginia Beach\, VA\, 23451\, United States
CATEGORIES:Live! On Atlantic
GEO:36.8643566;-75.9985693
END:VEVENT
END:VCALENDAR