BEGIN:VCALENDAR
VERSION:2.0
PRODID:-//Beach Events Virginia Beach VA - ECPv6.13.2.1//NONSGML v1.0//EN
CALSCALE:GREGORIAN
METHOD:PUBLISH
X-WR-CALNAME:Beach Events Virginia Beach VA
X-ORIGINAL-URL:https://beacheventsvb.com
X-WR-CALDESC:Events for Beach Events Virginia Beach VA
REFRESH-INTERVAL;VALUE=DURATION:PT1H
X-Robots-Tag:noindex
X-PUBLISHED-TTL:PT1H
BEGIN:VTIMEZONE
TZID:America/New_York
BEGIN:DAYLIGHT
TZOFFSETFROM:-0500
TZOFFSETTO:-0400
TZNAME:EDT
DTSTART:20250309T070000
END:DAYLIGHT
BEGIN:STANDARD
TZOFFSETFROM:-0400
TZOFFSETTO:-0500
TZNAME:EST
DTSTART:20251102T060000
END:STANDARD
END:VTIMEZONE
BEGIN:VEVENT
DTSTART;TZID=America/New_York:20250602T193000
DTEND;TZID=America/New_York:20250602T224500
DTSTAMP:20260420T122217
CREATED:20250530T152508Z
LAST-MODIFIED:20250530T160102Z
UID:10003305-1748892600-1748904300@beacheventsvb.com
SUMMARY:Live! on Atlantic Nightly Entertainment
DESCRIPTION:There’s a surprise waiting around every corner at Live! On Atlantic. The sidewalks and streets literally become the stage for performers representing many genres of music\, and novelty performers juggling\, walking on ropes high in the air\, and creating magic right in front of your eyes. \nIn the parks on 17th and 24th Street\, you’ll encounter free performances in the evenings that will help make your stay in Virginia Beach a memorable one! \nENTERTAINMENT FOR MONDAY\, JUNE 2 | 7:30pm-10:45pm \n19th Street: Jamey Mossengren\n23rd Street: Dallas \nMusic in the Parks: \n17th Street Stage: Pan Atlantic\n24th Street Stage: Red Stapler \n  \nLine-ups are subject to change without notice.
URL:https://beacheventsvb.com/event/live-on-atlantic-nightly-entertainment-11/
LOCATION:VA
CATEGORIES:All Events,Live! On Atlantic
ATTACH;FMTTYPE=image/jpeg:https://beacheventsvb.com/wp-content/uploads/2023/05/web_header_LOA-copy.jpg
END:VEVENT
BEGIN:VEVENT
DTSTART;TZID=America/New_York:20250603T193000
DTEND;TZID=America/New_York:20250603T224500
DTSTAMP:20260420T122217
CREATED:20250530T152725Z
LAST-MODIFIED:20250530T160145Z
UID:10003306-1748979000-1748990700@beacheventsvb.com
SUMMARY:Live! on Atlantic Nightly Entertainment
DESCRIPTION:There’s a surprise waiting around every corner at Live! On Atlantic. The sidewalks and streets literally become the stage for performers representing many genres of music\, and novelty performers juggling\, walking on ropes high in the air\, and creating magic right in front of your eyes. \nIn the parks on 17th and 24th Street\, you’ll encounter free performances in the evenings that will help make your stay in Virginia Beach a memorable one! \nENTERTAINMENT FOR TUESDAY\, JUNE 3 | 7:30pm-10:45pm \n19th Street: Jamey Mossengren\n23rd Street: Dallas \nMusic in the Parks: \n17th Street Stage: TRS Band\n24th Street Stage: Free for All \n  \nLine-ups are subject to change without notice.
URL:https://beacheventsvb.com/event/live-on-atlantic-nightly-entertainment-12/
LOCATION:VA
CATEGORIES:All Events,Live! On Atlantic
ATTACH;FMTTYPE=image/jpeg:https://beacheventsvb.com/wp-content/uploads/2023/05/web_header_LOA-copy.jpg
END:VEVENT
BEGIN:VEVENT
DTSTART;TZID=America/New_York:20250604T190000
DTEND;TZID=America/New_York:20250604T220000
DTSTAMP:20260420T122217
CREATED:20250429T213228Z
LAST-MODIFIED:20250624T192536Z
UID:10002892-1749063600-1749074400@beacheventsvb.com
SUMMARY:Oceanfront Concert Series: Tropidelic & Ballyhoo!
DESCRIPTION:Wednesday\, June 4 | 7 p.m. \n24th Street Park \nTropidelic & Ballyhoo!FREE and open to the public\nGet ready for hot summer nights with the Oceanfront Concert Series at Virginia Beach\, a free music extravaganza taking place in the parks along the iconic Virginia Beach Boardwalk. This series brings fans together to revel in the magic of live music against the backdrop of the Atlantic oceanfront. \nSpanning a diverse range of musical genres\, the Oceanfront Concert Series caters to various tastes\, offering an eclectic lineup that resonates with music enthusiasts of all ages.  \n\nKNOW BEFORE YOU GOAllowed:• Beach blanket\, towel\, or beach chair (without a foot-rest or canopy)• Small cooler• Outside food and drink (no alcohol)• Re-entry with hand stamp• Strollers \n\n\n\n\n\n\n\n\n \nProhibited:• Alcohol• Open containers of any kind• Glass containers• Bicycles• Pets (except certified service animals)• Professional Camera/Video Equipment• Umbrellas
URL:https://beacheventsvb.com/event/oceanfront-concert-series-tropidelic/
LOCATION:24th Street Park\, 2405 Atlantic Ave\, Virginia Beach\, VA\, 23451\, United States
CATEGORIES:All Events,Oceanfront Concert Series
ATTACH;FMTTYPE=image/jpeg:https://beacheventsvb.com/wp-content/uploads/2024/01/1920x1080_ocs-copy.jpg
GEO:36.852960626831;-75.975834805086
X-APPLE-STRUCTURED-LOCATION;VALUE=URI;X-ADDRESS=24th Street Park 2405 Atlantic Ave Virginia Beach VA 23451 United States;X-APPLE-RADIUS=500;X-TITLE=2405 Atlantic Ave:geo:-75.975834805086,36.852960626831
END:VEVENT
BEGIN:VEVENT
DTSTART;TZID=America/New_York:20250604T193000
DTEND;TZID=America/New_York:20250604T224500
DTSTAMP:20260420T122217
CREATED:20250530T153024Z
LAST-MODIFIED:20250530T162100Z
UID:10003307-1749065400-1749077100@beacheventsvb.com
SUMMARY:Live! on Atlantic Nightly Entertainment
DESCRIPTION:There’s a surprise waiting around every corner at Live! On Atlantic. The sidewalks and streets literally become the stage for performers representing many genres of music\, and novelty performers juggling\, walking on ropes high in the air\, and creating magic right in front of your eyes. \nIn the parks on 17th and 24th Street\, you’ll encounter free performances in the evenings that will help make your stay in Virginia Beach a memorable one! \nENTERTAINMENT FOR WEDNESDAY\, JUNE 4 | 7:30pm-10:45pm \n19th Street: Jamey Mossengren\n23rd Street: Dallas \nMusic in the Parks: \n17th Street Stage: Stage Select \n24th Street Stage: OCS: Tropidelic with Ballyhoo! \n  \nLine-ups are subject to change without notice.
URL:https://beacheventsvb.com/event/live-on-atlantic-nightly-entertainment-13/
LOCATION:VA
CATEGORIES:All Events,Live! On Atlantic
ATTACH;FMTTYPE=image/jpeg:https://beacheventsvb.com/wp-content/uploads/2023/05/web_header_LOA-copy.jpg
END:VEVENT
BEGIN:VEVENT
DTSTART;TZID=America/New_York:20250605T193000
DTEND;TZID=America/New_York:20250605T224500
DTSTAMP:20260420T122217
CREATED:20250530T153428Z
LAST-MODIFIED:20250530T160255Z
UID:10003308-1749151800-1749163500@beacheventsvb.com
SUMMARY:Live! on Atlantic Nightly Entertainment
DESCRIPTION:There’s a surprise waiting around every corner at Live! On Atlantic. The sidewalks and streets literally become the stage for performers representing many genres of music\, and novelty performers juggling\, walking on ropes high in the air\, and creating magic right in front of your eyes. \nIn the parks on 17th and 24th Street\, you’ll encounter free performances in the evenings that will help make your stay in Virginia Beach a memorable one! \nENTERTAINMENT FOR THURSDAY\, JUNE 5 | 7:30pm-10:45pm \n19th Street: Jamey Mossengren\n23rd Street: Dallas \nMusic in the Parks: \n17th Street Stage: Mobile Karaoke\n24th Street Stage: Request Station \n  \nLine-ups are subject to change without notice.
URL:https://beacheventsvb.com/event/live-on-atlantic-nightly-entertainment-14/
LOCATION:VA
CATEGORIES:All Events,Live! On Atlantic
ATTACH;FMTTYPE=image/jpeg:https://beacheventsvb.com/wp-content/uploads/2023/05/web_header_LOA-copy.jpg
END:VEVENT
BEGIN:VEVENT
DTSTART;TZID=America/New_York:20250606T193000
DTEND;TZID=America/New_York:20250606T224500
DTSTAMP:20260420T122217
CREATED:20250530T153729Z
LAST-MODIFIED:20250530T160324Z
UID:10003309-1749238200-1749249900@beacheventsvb.com
SUMMARY:Live! on Atlantic Nightly Entertainment
DESCRIPTION:There’s a surprise waiting around every corner at Live! On Atlantic. The sidewalks and streets literally become the stage for performers representing many genres of music\, and novelty performers juggling\, walking on ropes high in the air\, and creating magic right in front of your eyes. \nIn the parks on 17th and 24th Street\, you’ll encounter free performances in the evenings that will help make your stay in Virginia Beach a memorable one! \nENTERTAINMENT FOR FRIDAY\, JUNE 6 | 7:30pm-10:45pm \n19th Street: Jamey Mossengren\n23rd Street: Dallas & Nick \nMusic in the Parks: \n17th Street Stage: Mari Cornell Band\n24th Street Stage: Up in the Air Band \n  \nLine-ups are subject to change without notice.
URL:https://beacheventsvb.com/event/live-on-atlantic-nightly-entertainment-15/
LOCATION:VA
CATEGORIES:All Events,Live! On Atlantic
ATTACH;FMTTYPE=image/jpeg:https://beacheventsvb.com/wp-content/uploads/2023/05/web_header_LOA-copy.jpg
END:VEVENT
BEGIN:VEVENT
DTSTART;TZID=America/New_York:20250607T193000
DTEND;TZID=America/New_York:20250607T224500
DTSTAMP:20260420T122217
CREATED:20250530T153942Z
LAST-MODIFIED:20250530T160500Z
UID:10003310-1749324600-1749336300@beacheventsvb.com
SUMMARY:Live! on Atlantic Nightly Entertainment
DESCRIPTION:There’s a surprise waiting around every corner at Live! On Atlantic. The sidewalks and streets literally become the stage for performers representing many genres of music\, and novelty performers juggling\, walking on ropes high in the air\, and creating magic right in front of your eyes. \nIn the parks on 17th and 24th Street\, you’ll encounter free performances in the evenings that will help make your stay in Virginia Beach a memorable one! \nENTERTAINMENT FOR SATURDAY\, JUNE 7 | 7:30pm-10:45pm \n19th Street: Jamey Mossengren\n23rd Street: Dallas & Nick \nMusic in the Parks: \n17th Street Stage: Joe Gosman Band\n24th Street Stage: BJ Griffin Showcase \n  \nLine-ups are subject to change without notice.
URL:https://beacheventsvb.com/event/live-on-atlantic-nightly-entertainment-16/
LOCATION:VA
CATEGORIES:All Events,Live! On Atlantic
ATTACH;FMTTYPE=image/jpeg:https://beacheventsvb.com/wp-content/uploads/2023/05/web_header_LOA-copy.jpg
END:VEVENT
BEGIN:VEVENT
DTSTART;TZID=America/New_York:20250608T193000
DTEND;TZID=America/New_York:20250608T224500
DTSTAMP:20260420T122217
CREATED:20250530T155637Z
LAST-MODIFIED:20250530T155643Z
UID:10003311-1749411000-1749422700@beacheventsvb.com
SUMMARY:Live! on Atlantic Nightly Entertainment
DESCRIPTION:There’s a surprise waiting around every corner at Live! On Atlantic. The sidewalks and streets literally become the stage for performers representing many genres of music\, and novelty performers juggling\, walking on ropes high in the air\, and creating magic right in front of your eyes. \nIn the parks on 17th and 24th Street\, you’ll encounter free performances in the evenings that will help make your stay in Virginia Beach a memorable one! \nENTERTAINMENT FOR SUNDAY\, JUNE 8 | 7:30pm-10:45pm \n19th Street: Dallas & Nick\n23rd Street: Brian Rudo \nMusic in the Parks: \n17th Street Stage: Chester Benton Tribute Review\n24th Street Stage: Kaboombox \n  \nLine-ups are subject to change without notice.
URL:https://beacheventsvb.com/event/live-on-atlantic-nightly-entertainment-17/
LOCATION:VA
CATEGORIES:All Events,Live! On Atlantic
ATTACH;FMTTYPE=image/jpeg:https://beacheventsvb.com/wp-content/uploads/2023/05/web_header_LOA-copy.jpg
END:VEVENT
END:VCALENDAR