BEGIN:VCALENDAR
VERSION:2.0
PRODID:-//Beach Events Virginia Beach VA - ECPv6.13.2.1//NONSGML v1.0//EN
CALSCALE:GREGORIAN
METHOD:PUBLISH
X-ORIGINAL-URL:https://beacheventsvb.com
X-WR-CALDESC:Events for Beach Events Virginia Beach VA
REFRESH-INTERVAL;VALUE=DURATION:PT1H
X-Robots-Tag:noindex
X-PUBLISHED-TTL:PT1H
BEGIN:VTIMEZONE
TZID:America/New_York
BEGIN:DAYLIGHT
TZOFFSETFROM:-0500
TZOFFSETTO:-0400
TZNAME:EDT
DTSTART:20250309T070000
END:DAYLIGHT
BEGIN:STANDARD
TZOFFSETFROM:-0400
TZOFFSETTO:-0500
TZNAME:EST
DTSTART:20251102T060000
END:STANDARD
END:VTIMEZONE
BEGIN:VEVENT
DTSTART;TZID=America/New_York:20250609T193000
DTEND;TZID=America/New_York:20250609T224500
DTSTAMP:20260420T210943
CREATED:20250530T160732Z
LAST-MODIFIED:20250530T160738Z
UID:10003312-1749497400-1749509100@beacheventsvb.com
SUMMARY:Live! on Atlantic Nightly Entertainment
DESCRIPTION:There’s a surprise waiting around every corner at Live! On Atlantic. The sidewalks and streets literally become the stage for performers representing many genres of music\, and novelty performers juggling\, walking on ropes high in the air\, and creating magic right in front of your eyes. \nIn the parks on 17th and 24th Street\, you’ll encounter free performances in the evenings that will help make your stay in Virginia Beach a memorable one! \nENTERTAINMENT FOR MONDAY\, JUNE 9 | 7:30pm-10:45pm \n19th Street: Dallas & Nick\n23rd Street: Brian Rudo \nMusic in the Parks: \n17th Street Stage: Kyra Guty Band\n24th Street Stage: Later That Night \n  \nLine-ups are subject to change without notice.
URL:https://beacheventsvb.com/event/live-on-atlantic-nightly-entertainment-18/
LOCATION:VA
CATEGORIES:All Events,Live! On Atlantic
ATTACH;FMTTYPE=image/jpeg:https://beacheventsvb.com/wp-content/uploads/2023/05/web_header_LOA-copy.jpg
END:VEVENT
BEGIN:VEVENT
DTSTART;TZID=America/New_York:20250610T193000
DTEND;TZID=America/New_York:20250610T224500
DTSTAMP:20260420T210943
CREATED:20250530T161330Z
LAST-MODIFIED:20250530T161340Z
UID:10003313-1749583800-1749595500@beacheventsvb.com
SUMMARY:Live! on Atlantic Nightly Entertainment
DESCRIPTION:There’s a surprise waiting around every corner at Live! On Atlantic. The sidewalks and streets literally become the stage for performers representing many genres of music\, and novelty performers juggling\, walking on ropes high in the air\, and creating magic right in front of your eyes. \nIn the parks on 17th and 24th Street\, you’ll encounter free performances in the evenings that will help make your stay in Virginia Beach a memorable one! \nENTERTAINMENT FOR TUESDAY\, JUNE 10 | 7:30pm-10:45pm \n19th Street: Shaun Jay\n23rd Street: Brian Rudo \nMusic in the Parks: \n17th Street Stage: The Goodfoot Band\n24th Street Stage: Dave Johnson & the Truth \n  \nLine-ups are subject to change without notice.
URL:https://beacheventsvb.com/event/live-on-atlantic-nightly-entertainment-19/
LOCATION:VA
CATEGORIES:All Events,Live! On Atlantic
ATTACH;FMTTYPE=image/jpeg:https://beacheventsvb.com/wp-content/uploads/2023/05/web_header_LOA-copy.jpg
END:VEVENT
BEGIN:VEVENT
DTSTART;TZID=America/New_York:20250611T190000
DTEND;TZID=America/New_York:20250611T220000
DTSTAMP:20260420T210943
CREATED:20250429T213401Z
LAST-MODIFIED:20250624T193427Z
UID:10002893-1749668400-1749679200@beacheventsvb.com
SUMMARY:Oceanfront Concert Series: The Wonder Years
DESCRIPTION:Wednesday\, June 11 | 7 p.m. \n17th Street Park \nThe Wonder Years\nwith GlomFREE and open to the public\nGet ready for hot summer nights with the Oceanfront Concert Series at Virginia Beach\, a free music extravaganza taking place in the parks along the iconic Virginia Beach Boardwalk. This series brings fans together to revel in the magic of live music against the backdrop of the Atlantic oceanfront. \nSpanning a diverse range of musical genres\, the Oceanfront Concert Series caters to various tastes\, offering an eclectic lineup that resonates with music enthusiasts of all ages.  \n\nKNOW BEFORE YOU GOAllowed:• Beach blanket\, towel\, or beach chair (without a foot-rest or canopy)• Small cooler• Outside food and drink (no alcohol)• Re-entry with hand stamp• Strollers \n\n\n\n\n\n\n\n\n \nProhibited:• Alcohol• Open containers of any kind• Glass containers• Bicycles• Pets (except certified service animals)• Professional Camera/Video Equipment• Umbrellas
URL:https://beacheventsvb.com/event/oceanfront-concert-series-the-wonder-years/
LOCATION:17th Street Park\, Virginia Beach\, VA\, 23451\, United States
CATEGORIES:All Events,Festivals,Oceanfront Concert Series
ATTACH;FMTTYPE=image/jpeg:https://beacheventsvb.com/wp-content/uploads/2024/01/1920x1080_ocs-copy.jpg
GEO:36.8643566;-75.9985693
END:VEVENT
BEGIN:VEVENT
DTSTART;TZID=America/New_York:20250612T193000
DTEND;TZID=America/New_York:20250612T224500
DTSTAMP:20260420T210943
CREATED:20250530T162417Z
LAST-MODIFIED:20250530T162417Z
UID:10003316-1749756600-1749768300@beacheventsvb.com
SUMMARY:Live! on Atlantic Nightly Entertainment
DESCRIPTION:There’s a surprise waiting around every corner at Live! On Atlantic. The sidewalks and streets literally become the stage for performers representing many genres of music\, and novelty performers juggling\, walking on ropes high in the air\, and creating magic right in front of your eyes. \nIn the parks on 17th and 24th Street\, you’ll encounter free performances in the evenings that will help make your stay in Virginia Beach a memorable one! \nENTERTAINMENT FOR THURSDAY\, JUNE 12 | 7:30pm-10:45pm \n19th Street: Shaun Jay\n23rd Street: Guy Collins \nMusic in the Parks: \n17th Street Stage: 21 North Band\n24th Street Stage: Skylark \n  \nLine-ups are subject to change without notice.
URL:https://beacheventsvb.com/event/live-on-atlantic-nightly-entertainment-21/
LOCATION:VA
CATEGORIES:All Events,Live! On Atlantic
ATTACH;FMTTYPE=image/jpeg:https://beacheventsvb.com/wp-content/uploads/2023/05/web_header_LOA-copy.jpg
END:VEVENT
BEGIN:VEVENT
DTSTART;TZID=America/New_York:20250613T193000
DTEND;TZID=America/New_York:20250613T224500
DTSTAMP:20260420T210943
CREATED:20250530T162655Z
LAST-MODIFIED:20250530T162731Z
UID:10003317-1749843000-1749854700@beacheventsvb.com
SUMMARY:Live! on Atlantic Nightly Entertainment
DESCRIPTION:There’s a surprise waiting around every corner at Live! On Atlantic. The sidewalks and streets literally become the stage for performers representing many genres of music\, and novelty performers juggling\, walking on ropes high in the air\, and creating magic right in front of your eyes. \nIn the parks on 17th and 24th Street\, you’ll encounter free performances in the evenings that will help make your stay in Virginia Beach a memorable one! \nENTERTAINMENT FOR FRIDAY\, JUNE 13 | 7:30pm-10:45pm \n19th Street: Shaun Jay\n23rd Street: Guy Collins \nMusic in the Parks: \n17th Street Stage: BJ Griffin Showcase \n  \nLine-ups are subject to change without notice.
URL:https://beacheventsvb.com/event/live-on-atlantic-nightly-entertainment-22/
LOCATION:VA
CATEGORIES:All Events,Live! On Atlantic
ATTACH;FMTTYPE=image/jpeg:https://beacheventsvb.com/wp-content/uploads/2023/05/web_header_LOA-copy.jpg
END:VEVENT
BEGIN:VEVENT
DTSTART;TZID=America/New_York:20250614T193000
DTEND;TZID=America/New_York:20250614T224500
DTSTAMP:20260420T210943
CREATED:20250530T162937Z
LAST-MODIFIED:20250530T162942Z
UID:10003318-1749929400-1749941100@beacheventsvb.com
SUMMARY:Live! on Atlantic Nightly Entertainment
DESCRIPTION:There’s a surprise waiting around every corner at Live! On Atlantic. The sidewalks and streets literally become the stage for performers representing many genres of music\, and novelty performers juggling\, walking on ropes high in the air\, and creating magic right in front of your eyes. \nIn the parks on 17th and 24th Street\, you’ll encounter free performances in the evenings that will help make your stay in Virginia Beach a memorable one! \nENTERTAINMENT FOR SATURDAY\, JUNE 14 | 7:30pm-10:45pm \n19th Street: Shaun Jay\n23rd Street: Guy Collins \nMusic in the Parks: \n17th Street Stage: Historical Re-enactor Patrick Henry \n  \nLine-ups are subject to change without notice.
URL:https://beacheventsvb.com/event/live-on-atlantic-nightly-entertainment-23/
LOCATION:VA
CATEGORIES:All Events,Live! On Atlantic
ATTACH;FMTTYPE=image/jpeg:https://beacheventsvb.com/wp-content/uploads/2023/05/web_header_LOA-copy.jpg
END:VEVENT
BEGIN:VEVENT
DTSTART;TZID=America/New_York:20250615T193000
DTEND;TZID=America/New_York:20250615T224500
DTSTAMP:20260420T210943
CREATED:20250530T163137Z
LAST-MODIFIED:20250530T163156Z
UID:10003319-1750015800-1750027500@beacheventsvb.com
SUMMARY:Live! on Atlantic Nightly Entertainment
DESCRIPTION:There’s a surprise waiting around every corner at Live! On Atlantic. The sidewalks and streets literally become the stage for performers representing many genres of music\, and novelty performers juggling\, walking on ropes high in the air\, and creating magic right in front of your eyes. \nIn the parks on 17th and 24th Street\, you’ll encounter free performances in the evenings that will help make your stay in Virginia Beach a memorable one! \nENTERTAINMENT FOR SUNDAY\, JUNE 15 | 7:30pm-10:45pm \n19th Street: Shaun Jay\n23rd Street: Guy Collins \nMusic in the Parks: \n17th Street Stage: HM Johnson Band \n  \nLine-ups are subject to change without notice.
URL:https://beacheventsvb.com/event/live-on-atlantic-nightly-entertainment-24/
LOCATION:VA
CATEGORIES:All Events,Live! On Atlantic
ATTACH;FMTTYPE=image/jpeg:https://beacheventsvb.com/wp-content/uploads/2023/05/web_header_LOA-copy.jpg
END:VEVENT
END:VCALENDAR