BEGIN:VCALENDAR
VERSION:2.0
PRODID:-//Beach Events Virginia Beach VA - ECPv6.13.2.1//NONSGML v1.0//EN
CALSCALE:GREGORIAN
METHOD:PUBLISH
X-WR-CALNAME:Beach Events Virginia Beach VA
X-ORIGINAL-URL:https://beacheventsvb.com
X-WR-CALDESC:Events for Beach Events Virginia Beach VA
REFRESH-INTERVAL;VALUE=DURATION:PT1H
X-Robots-Tag:noindex
X-PUBLISHED-TTL:PT1H
BEGIN:VTIMEZONE
TZID:America/New_York
BEGIN:DAYLIGHT
TZOFFSETFROM:-0500
TZOFFSETTO:-0400
TZNAME:EDT
DTSTART:20230312T070000
END:DAYLIGHT
BEGIN:STANDARD
TZOFFSETFROM:-0400
TZOFFSETTO:-0500
TZNAME:EST
DTSTART:20231105T060000
END:STANDARD
END:VTIMEZONE
BEGIN:VEVENT
DTSTART;TZID=America/New_York:20231231T180000
DTEND;TZID=America/New_York:20231231T230000
DTSTAMP:20260421T080040
CREATED:20231114T155906Z
LAST-MODIFIED:20240109T205001Z
UID:10002279-1704045600-1704063600@beacheventsvb.com
SUMMARY:Last Night on the Town
DESCRIPTION:LAST NIGHT ON THE TOWN\nfeaturing The Movement\, The Collection\, and The Ries Brothers \nSunday\, December 31\nVirginia Beach Town Center\nGeneral Admission is FREE! | VIP tickets available at lastnightonthetown.com (Provided by the Central Business District Association) \nThe Movement\, with special guests The Collection and The Ries Brothers will headline the 2023 Last Night on the Town. The premier New Year’s Eve celebration in Virginia Beach kicks off with family fun at 6:00 p.m. ET on Sunday\, December 31\, 2023\, at Virginia Beach Town Center. Music will begin at 8:00 p.m. \nCreated by the Central Business District Association\, Last Night on the Town (LNOTT) is now in its tenth year at Virginia Beach Town Center and is a FREE celebration suitable for the entire family. VIP tickets are on sale now. For more details and ticket information\, go to www.lastnightonthetown.com. \nThe Movement has been winning the hearts and minds of alternative reggae fans since their inception in Columbia\, SC in 2003. Drawing inspiration from Sublime\, 311\, Slightly Stoopid\, and John Brown’s Body\, they’ve made a name for themselves as reggae shapeshifters with a foundation of heavy drum and bass. Today\, the band consists of founding member\, lead vocalist\, and guitarist Joshua Swain; bassist Jason Schmidt; drummer Gary Jackson; and keyboardist/multi-instrumentalist Matt Goodwin. Their seventh studio album\, Ways Of The World (2019) debuted at #1 in the Billboard Reggae Chart and remained in the Billboard Reggae Top 10 for more than 40 consecutive weeks. The band’s eighth studio album\, Always With Me\, was released July 29\, 2022 on the band’s R4RE Records imprint. It explores new musical territory while staying true to their champion sound. Featuring collaborations from their influencers-turned-peers\, Slightly Stoopid\, Iration\, and Clinton Fearon\, and contemporaries HIRIE and Soom T\, for The Movement\, the only path is forward\, pushing the boundaries and the future of reggae. \nFronted by David Wimbish\, The Collection hails from North Carolina. Impressively\, the band logged thousands of miles on the road\, generated millions of streams\, and earned praise from American Songwriter\, Glide\, Parade\, and more all before signing to Nettwerk. With three full-length releases\, three Eps\, and a number of singles in their repertoire\, the band’s extensive catalog is complimented by their robust and raucous live show that has built a devout fanbase. The Collection has toured with The Oh Hellos\, RIPE\, Tall Heights\, and Nettwerk’s own Sammy Rae & The Friends. \nThe Ries Brothers (pronounced “Rees”)\, a duo from St. Petersburg\, FL\, blend rock\, blues\, jam\, funk\, and reggae into a soulful-sophisticated sound. Older brother Charlie (27) sings lead vocals while simultaneously playing drums and keyboard bass\, giving the band its unique and full sound. Younger brother Kevin Jordan (24) completes the band’s “sonic creativity” on guitar\, ukulele\, and melodica and provides background vocals. The band started playing the Florida bar circuit as young teenagers where they were discovered by the band Chicago and taken out on two regional tours\, prompting them to leave school and focus on music full time.
URL:https://beacheventsvb.com/event/last-night-on-the-town2023/
LOCATION:Virginia Beach Town Center\, Virginia Beach\, VA\, 23451\, United States
CATEGORIES:All Events,Festivals
ATTACH;FMTTYPE=image/jpeg:https://beacheventsvb.com/wp-content/uploads/2023/11/website_LastNightOnTheTown-copy-2.jpg
GEO:36.8643566;-75.9985693
END:VEVENT
END:VCALENDAR